{"text_format":"3","workbook":"xlsx","n_sheets":6,"sheets":["Interface","Anleitung","Wissen","Berechnung","Verwaltung (ausblenden)","Impressum"],"not_rendered":{"charts":1,"images":6,"defined_names":6},"read":"whole","date_system":"1900"}

{"sheet":"Interface","index":0,"n_rows":28,"n_cols":11,"rows_kept":28,"merged":[[26,1,26,11],[27,1,27,11]]}
[]
[null,"HExTemp light"]
[null,"berechnet den Temperaturverlauf und die übertragene Wärmeleistung in Wärmeübertragern"]
[]
[null,"Eingabe",{"$nulls":5},"Ausgabe"]
[]
[null,"Strömungsgeometrie",{"$nulls":5},"Austrittstemperatur ϑ1,aus",null,{"$f":"IF('Verwaltung (ausblenden)'!D21=0,\"!!!\",Berechnung!E34)","v":{"v":52.903833102805905,"d":"52.9"}},"[°C]"]
[null,"Strömungsrichtung",{"$nulls":5},"Austrittstemperatur ϑ2,aus",null,{"$f":"IF('Verwaltung (ausblenden)'!D21=0,\"!!!\",Berechnung!E35)","v":{"v":36.18647962795346,"d":"36.2"}},"[°C]"]
[]
[null,"Wärmeübertragergeometrie",{"$nulls":7},{"$f":"IF('Verwaltung (ausblenden)'!D21=0,\"!!!\",Berechnung!E37)","v":{"v":13548.083448597048,"d":"13548"}},"[W]"]
[null,"Wärmedurchgangskoeffizient k",null,{"v":40,"d":"40.0"},"[W/(m² K)]"]
[null,"Wärmeübertragungsfläche A",null,{"v":10,"d":"10.0"},"[m²]"]
[]
[null,"Wärmeres Fluid"]
[null,"Massenstrom ṁ1",null,{"v":0.5,"d":"0.50"},"[kg/s]"]
[null,"Wärmekapazität cp1",null,1000,"[J/(kg K)]"]
[null,"Eintrittstemperatur ϑ1,ein",null,{"v":80,"d":"80.0"},"[°C]"]
[]
[null,"Kälteres Fluid"]
[null,"Massenstrom ṁ2",null,{"v":0.2,"d":"0.20"},"[kg/s]"]
[null,"Wärmekapazität cp2",null,4185,"[J/(kg K)]"]
[null,"Eintrittstemperatur ϑ2,ein",null,{"v":20,"d":"20.0"},"[°C]"]
[]
[null,{"$f":"IF('Verwaltung (ausblenden)'!D21=0,'Verwaltung (ausblenden)'!E21,\"\")","v":""}]
[]
[]
[null,"Wenger Engineering GmbH  -  Einsteinstraße 55  -  D-89077 Ulm  -  Tel. +49 731 / 159 37 -500  -  mail@wenger-engineering.de"]
[null,"www.wenger-engineering.de"]

{"sheet":"Anleitung","index":1,"n_rows":24,"n_cols":2,"rows_kept":24,"merged":[[5,1,5,7],[7,1,7,7],[9,1,9,7],[11,1,11,7],[13,1,13,7],[15,1,15,7],[17,1,17,7],[19,1,19,7],[21,1,21,3],[23,1,23,3]]}
[]
[null,"HExTemp light"]
[]
[null,"Anleitung"]
[]
[null,"HExTemp light berechnet die Temperaturverläufe zweier Fluide innerhalb eines Wärmeübertragers sowie den übertragenen Wärmestrom.\n\n"]
[]
[null,"Es können Rekuperatoren sowohl in Form von Gleichstromwärmeübertragern als auch Gegenstromwärmeübertragern berechnet werden."]
[]
[null,"Eingegeben werden müssen der Wärmedurchgangskoeffizient k, die Wärmeübertragungsfläche A, sowie die Wärmekapazitäten cp1 und cp2, die Massenströme ṁ1 und ṁ2 und die Eintrittstemperaturen ϑ1,ein und ϑ2,ein der beiden Fluide."]
[]
[null,"Mit Index 1 wird das Fluid bezeichnet, das beim Eintritt in den Wärmeübertrager die höhere Temperatur hat. Das Fluid mit Index 2 hat beim Eintritt in den Wärmeübertrager die niedrigere Temperatur."]
[]
[null,"Ausgegeben werden die Austrittstemperaturen ϑ1,aus und ϑ2,aus und die Temperaturverläufe beider Fluide innerhalb des Wärmeübertragers, sowie der vom wärmeren an das kältere Fluid übertragene Wärmestrom     ."]
[]
[null,"Der Temperaturverlauf ist im Diagramm über die Länge des Wärmeübertragers aufgetragen. Dabei wird die Länge prozentual angegeben."]
[]
[null,"Position x = 0 % entspricht dem Eintrittspunkt und Position x = 100 % dem Austrittspunkt des wärmeren Fluids."]
[]
[null,"Die Positionen von Ein- und Austrittspunkt des kälteren Fluids variieren je nach Auswahl der Strömungsrichtung:"]
[]
[null,"Bei einem Gleichstromwärmeübertrager liegt der Eintrittspunkt des kälteren Fluids bei Position x = 0 % und der Austrittspunkt bei Position x = 100 %."]
[]
[null,"Bei einem Gegenstromwärmeübertrager liegt der Eintrittspunkt des kälteren Fluids bei Position x = 100 % und der Austrittspunkt bei Position x = 0 %."]

{"sheet":"Wissen","index":2,"n_rows":81,"n_cols":3,"rows_kept":81,"merged":[[5,1,5,7],[7,1,7,7],[9,1,9,7],[11,1,11,7],[13,1,13,7],[15,1,15,3],[16,1,16,7],[18,1,18,3],[20,1,20,7],[22,1,22,7],[30,1,30,6]]}
[]
[null,"HExTemp light"]
[]
[null,"Wissen"]
[]
[null,"Ein Wärmeübertrager (auch Wärmetauscher genannt) ist ein Apparat, der thermische Energie von einem Stoffstrom auf einen anderen überträgt. [Definition nach Wikipedia]\n\n\n\n"]
[]
[null,"Notwendig für die Wärmeübertragung ist ein Temperaturunterschied zwischen den beiden Medien. Die Wärme wird immer vom wärmeren an das kältere Medium übertragen.\n\n"]
[]
[null,"Als Medien kommen vor allem Fluide (Flüssigkeiten und Gase) zur Anwendung. In wenigen Spezialfällen werden auch Festkörper verwendet."]
[]
[null,"Es wird unterschieden zwischen Gleichstromwärmeübertragern, Gegenstromwärmeübertragern und Kreuzstromwärmeübertragern sowie Mischformen dieser drei Bauarten.\n\n"]
[]
[null,"Die Temperatur innerhalb eines Wärmeübertragers ändert sich über dessen Länge. Der Temperaturverlauf ist bei Gleich-, Gegen- und Kreuzstromwärmeübertragern verschieden."]
[]
[null,"Bei Gleichstromwärmeübertragern nähern sich die Temperaturen der beiden Fluide einer gemeinsamen Grenztemperatur an. \n\nDiese Grenztemperatur liegt zwischen den Eintrittstemperaturen der beiden Fluide. \n"]
[null,"Sie hängt von den Massenströmen, Wärmekapazitäten und Eintrittstemperaturen der beiden Fluide ab.\nDie Austrittstemperatur des kälteren Mediums kann die des wärmeren Mediums nicht überschreiten."]
[]
[null,"Bei Gegenstromwärmeübertragern existiert keine gemeinsame Grenztemperatur für die Austrittstemperaturen der beiden Fluide. \n\nDie Austrittstemperatur des kälteren Fluids kann die Austrittstemperatur des wärmeren Fluids überschreiten.\n\n"]
[]
[null,"Die Grenztemperatur des wärmeren Fluids entspricht der Eintrittstemperatur des kälteren Fluides. Das kältere Fluid kann als Grenztemperatur maximal die Eintrittstemperatur des wärmeren Fluids erreichen."]
[]
[null,"Die Leistung eines Wärmeübertragers ist im Gegenstrombetrieb höher als im Gleichstrombetrieb."]
[]
[null,"Weitere interessante Literatur zu diesem Thema finden Sie auf"]
[null,"http://www.thermodynamik-buchtipps.de"]
[]
[null,"Formelsammlung"]
[]
[null,"Diese Formelsammlung ist enthalten in HExTemp light open."]
[null,"http://www.waermetauscher-berechnen.de/hextemp-light-open"]
[]
[null,"Wärmekapazitätsstrom:"]
[]
[]
[]
[null,"Übertragungseinheiten (Number of Transfer Units):"]
[]
[]
[]
[null,"Verhältnis der Wärmekapazitätsströme:"]
[]
[]
[]
[null,"Wärmeübertrager-Wirkungsgrad bei Gleichstrom:"]
[]
[]
[]
[null,"Wärmeübertrager-Wirkungsgrad bei Gegenstrom:"]
[]
[]
[]
[null,"Ortsabhängige Temperatur:"]
[]
[]
[]
[null,"Übertragener Wärmestrom:"]
[]
[]
[]
[null,"Mittlere Logarithmische Temperaturdifferenz bei Gleichstrom:"]
[]
[]
[]
[null,"Mittlere Logarithmische Temperaturdifferenz bei Gegenstrom:"]
[]
[]
[]
[]
[]
[null,"mit: ","A: Oberfläche [m2]"]
[null,null,"NTU: Number of Transfer Units [-]"]
[]
[null,null,"Ẇ: Wärmekapazitätsstrom [J/(K s)]"]
[null,null,"cp: Wärmekapazität [J/(kg K)]"]
[null,null,"k: Wärmedurchgangskoeffizient [W/(m² K)]"]
[null,null,"ṁ: Massenstrom [kg/s]"]
[null,null,"x: Position im Wärmeübertrager (prozentual) [%]"]
[null,null,"ε: (lokaler) Wärmeübertrager-Wirkungsgrad [-]"]
[null,null,"ϑ: Temperatur [°C]"]
[null,null,"ΔTm: mittlere logarithmischeTemperaturdifferenz [K]"]

{"sheet":"Berechnung","index":3,"n_rows":50,"n_cols":105,"rows_kept":50,"merged":[[6,1,6,3]]}
[]
[null,"HExTemp light"]
[]
[null,"Berechnungen"]
[]
[null,"Diese Berechnungen können Sie in HExTemp light open einsehen."]
[null,"http://www.waermetauscher-berechnen.de/hextemp-light-open"]
[]
[null,"Hilfsgrößen"]
[]
[null,"Wärmekapazitätsstrom warmes Fluid","Ẇ1","[J/(K s)]",{"$f":"Interface!D15*Interface!D16","v":{"v":500,"d":"500.0"}}]
[null,"Wärmekapazitätsstrom kaltes Fluid","Ẇ2","[J/(K s)]",{"$f":"IF('Verwaltung (ausblenden)'!D11=TRUE,Interface!D20*Interface!D21+0.0000001,Interface!D20*Interface!D21)","v":{"v":837,"d":"837.0"}}]
[]
[null,"Übertragungseinheiten warmes Fluid","NTU1","[-]",{"$f":"Interface!D11*Interface!D12/Berechnung!E11","v":0.8}]
[null,"Übertragungseinheiten kaltes Fluid","NTU2","[-]",{"$f":"Interface!D11*Interface!D12/Berechnung!E12","v":{"v":0.4778972520908005,"d":"0.5"}}]
[]
[null,"Verhältnis der Wärmekapazitätsströme","Ẇ1/Ẇ2","[-]",{"$f":"E11/E12","v":{"v":0.5973715651135006,"d":"0.6"}}]
[null,"Verhältnis der Wärmekapazitätsströme","Ẇ2/Ẇ1","[-]",{"$f":"E12/E11","v":{"v":1.674,"d":"1.7"}}]
[]
[]
[null,"Lokale Größen"]
[]
[null,"Position x im Wärmeübertrager","x","[%]",{"v":0,"d":"0.0"},{"v":1,"d":"1.0"},{"v":2,"d":"2.0"},{"v":3,"d":"3.0"},{"v":4,"d":"4.0"},{"v":5,"d":"5.0"},{"v":6,"d":"6.0"},{"v":7,"d":"7.0"},{"v":8,"d":"8.0"},{"v":9,"d":"9.0"},{"v":10,"d":"10.0"},{"v":11,"d":"11.0"},{"v":12,"d":"12.0"},{"v":13,"d":"13.0"},{"v":14,"d":"14.0"},{"v":15,"d":"15.0"},{"v":16,"d":"16.0"},{"v":17,"d":"17.0"},{"v":18,"d":"18.0"},{"v":19,"d":"19.0"},{"v":20,"d":"20.0"},{"v":21,"d":"21.0"},{"v":22,"d":"22.0"},{"v":23,"d":"23.0"},{"v":24,"d":"24.0"},{"v":25,"d":"25.0"},{"v":26,"d":"26.0"},{"v":27,"d":"27.0"},{"v":28,"d":"28.0"},{"v":29,"d":"29.0"},{"v":30,"d":"30.0"},{"v":31,"d":"31.0"},{"v":32,"d":"32.0"},{"v":33,"d":"33.0"},{"v":34,"d":"34.0"},{"v":35,"d":"35.0"},{"v":36,"d":"36.0"},{"v":37,"d":"37.0"},{"v":38,"d":"38.0"},{"v":39,"d":"39.0"},{"v":40,"d":"40.0"},{"v":41,"d":"41.0"},{"v":42,"d":"42.0"},{"v":43,"d":"43.0"},{"v":44,"d":"44.0"},{"v":45,"d":"45.0"},{"v":46,"d":"46.0"},{"v":47,"d":"47.0"},{"v":48,"d":"48.0"},{"v":49,"d":"49.0"},{"v":50,"d":"50.0"},{"v":51,"d":"51.0"},{"v":52,"d":"52.0"},{"v":53,"d":"53.0"},{"v":54,"d":"54.0"},{"v":55,"d":"55.0"},{"v":56,"d":"56.0"},{"v":57,"d":"57.0"},{"v":58,"d":"58.0"},{"v":59,"d":"59.0"},{"v":60,"d":"60.0"},{"v":61,"d":"61.0"},{"v":62,"d":"62.0"},{"v":63,"d":"63.0"},{"v":64,"d":"64.0"},{"v":65,"d":"65.0"},{"v":66,"d":"66.0"},{"v":67,"d":"67.0"},{"v":68,"d":"68.0"},{"v":69,"d":"69.0"},{"v":70,"d":"70.0"},{"v":71,"d":"71.0"},{"v":72,"d":"72.0"},{"v":73,"d":"73.0"},{"v":74,"d":"74.0"},{"v":75,"d":"75.0"},{"v":76,"d":"76.0"},{"v":77,"d":"77.0"},{"v":78,"d":"78.0"},{"v":79,"d":"79.0"},{"v":80,"d":"80.0"},{"v":81,"d":"81.0"},{"v":82,"d":"82.0"},{"v":83,"d":"83.0"},{"v":84,"d":"84.0"},{"v":85,"d":"85.0"},{"v":86,"d":"86.0"},{"v":87,"d":"87.0"},{"v":88,"d":"88.0"},{"v":89,"d":"89.0"},{"v":90,"d":"90.0"},{"v":91,"d":"91.0"},{"v":92,"d":"92.0"},{"v":93,"d":"93.0"},{"v":94,"d":"94.0"},{"v":95,"d":"95.0"},{"v":96,"d":"96.0"},{"v":97,"d":"97.0"},{"v":98,"d":"98.0"},{"v":99,"d":"99.0"},{"v":100,"d":"100.0"}]
[]
[null,"Wärmeübertrager-Wirkungsgrad warmes Fluid","ε1(x)","[-]",{"$f":"IF('Verwaltung (ausblenden)'!$D$10=TRUE,(1-EXP(-$E$14*E23/100*(1+$E$17)))/(1+$E$17),IF('Verwaltung (ausblenden)'!$D$11=TRUE,(1-EXP(-$E$14*E23/100*(1-$E$17)))/(1-$E$17*EXP(-$E$14*(1-$E$17))),0))","v":{"v":0,"d":"0.0"}},{"$f":"IF('Verwaltung (ausblenden)'!$D$10=TRUE,(1-EXP(-$E$14*F23/100*(1+$E$17)))/(1+$E$17),IF('Verwaltung (ausblenden)'!$D$11=TRUE,(1-EXP(-$E$14*F23/100*(1-$E$17)))/(1-$E$17*EXP(-$E$14*(1-$E$17))),0))","v":{"v":7.949101152264184E-3,"d":"0.0"}},{"$f":"IF('Verwaltung (ausblenden)'!$D$10=TRUE,(1-EXP(-$E$14*G23/100*(1+$E$17)))/(1+$E$17),IF('Verwaltung (ausblenden)'!$D$11=TRUE,(1-EXP(-$E$14*G23/100*(1-$E$17)))/(1-$E$17*EXP(-$E$14*(1-$E$17))),0))","v":{"v":0.015797267256015345,"d":"0.0"}},{"$f":"IF('Verwaltung (ausblenden)'!$D$10=TRUE,(1-EXP(-$E$14*H23/100*(1+$E$17)))/(1+$E$17),IF('Verwaltung (ausblenden)'!$D$11=TRUE,(1-EXP(-$E$14*H23/100*(1-$E$17)))/(1-$E$17*EXP(-$E$14*(1-$E$17))),0))","v":{"v":0.023545779951004122,"d":"0.0"}},{"$f":"IF('Verwaltung (ausblenden)'!$D$10=TRUE,(1-EXP(-$E$14*I23/100*(1+$E$17)))/(1+$E$17),IF('Verwaltung (ausblenden)'!$D$11=TRUE,(1-EXP(-$E$14*I23/100*(1-$E$17)))/(1-$E$17*EXP(-$E$14*(1-$E$17))),0))","v":{"v":0.031195904603144888,"d":"0.0"}},{"$f":"IF('Verwaltung (ausblenden)'!$D$10=TRUE,(1-EXP(-$E$14*J23/100*(1+$E$17)))/(1+$E$17),IF('Verwaltung (ausblenden)'!$D$11=TRUE,(1-EXP(-$E$14*J23/100*(1-$E$17)))/(1-$E$17*EXP(-$E$14*(1-$E$17))),0))","v":{"v":0.038748890511155536,"d":"0.0"}},{"$f":"IF('Verwaltung (ausblenden)'!$D$10=TRUE,(1-EXP(-$E$14*K23/100*(1+$E$17)))/(1+$E$17),IF('Verwaltung (ausblenden)'!$D$11=TRUE,(1-EXP(-$E$14*K23/100*(1-$E$17)))/(1-$E$17*EXP(-$E$14*(1-$E$17))),0))","v":{"v":0.046205971110573375,"d":"0.0"}},{"$f":"IF('Verwaltung (ausblenden)'!$D$10=TRUE,(1-EXP(-$E$14*L23/100*(1+$E$17)))/(1+$E$17),IF('Verwaltung (ausblenden)'!$D$11=TRUE,(1-EXP(-$E$14*L23/100*(1-$E$17)))/(1-$E$17*EXP(-$E$14*(1-$E$17))),0))","v":{"v":0.05356836417518068,"d":"0.1"}},{"$f":"IF('Verwaltung (ausblenden)'!$D$10=TRUE,(1-EXP(-$E$14*M23/100*(1+$E$17)))/(1+$E$17),IF('Verwaltung (ausblenden)'!$D$11=TRUE,(1-EXP(-$E$14*M23/100*(1-$E$17)))/(1-$E$17*EXP(-$E$14*(1-$E$17))),0))","v":{"v":0.060837272015872336,"d":"0.1"}},{"$f":"IF('Verwaltung (ausblenden)'!$D$10=TRUE,(1-EXP(-$E$14*N23/100*(1+$E$17)))/(1+$E$17),IF('Verwaltung (ausblenden)'!$D$11=TRUE,(1-EXP(-$E$14*N23/100*(1-$E$17)))/(1-$E$17*EXP(-$E$14*(1-$E$17))),0))","v":{"v":0.06801388167699839,"d":"0.1"}},{"$f":"IF('Verwaltung (ausblenden)'!$D$10=TRUE,(1-EXP(-$E$14*O23/100*(1+$E$17)))/(1+$E$17),IF('Verwaltung (ausblenden)'!$D$11=TRUE,(1-EXP(-$E$14*O23/100*(1-$E$17)))/(1-$E$17*EXP(-$E$14*(1-$E$17))),0))","v":{"v":0.07509936513021373,"d":"0.1"}},{"$f":"IF('Verwaltung (ausblenden)'!$D$10=TRUE,(1-EXP(-$E$14*P23/100*(1+$E$17)))/(1+$E$17),IF('Verwaltung (ausblenden)'!$D$11=TRUE,(1-EXP(-$E$14*P23/100*(1-$E$17)))/(1-$E$17*EXP(-$E$14*(1-$E$17))),0))","v":{"v":0.08209487946586602,"d":"0.1"}},{"$f":"IF('Verwaltung (ausblenden)'!$D$10=TRUE,(1-EXP(-$E$14*Q23/100*(1+$E$17)))/(1+$E$17),IF('Verwaltung (ausblenden)'!$D$11=TRUE,(1-EXP(-$E$14*Q23/100*(1-$E$17)))/(1-$E$17*EXP(-$E$14*(1-$E$17))),0))","v":{"v":0.08900156708195381,"d":"0.1"}},{"$f":"IF('Verwaltung (ausblenden)'!$D$10=TRUE,(1-EXP(-$E$14*R23/100*(1+$E$17)))/(1+$E$17),IF('Verwaltung (ausblenden)'!$D$11=TRUE,(1-EXP(-$E$14*R23/100*(1-$E$17)))/(1-$E$17*EXP(-$E$14*(1-$E$17))),0))","v":{"v":0.09582055587068479,"d":"0.1"}},{"$f":"IF('Verwaltung (ausblenden)'!$D$10=TRUE,(1-EXP(-$E$14*S23/100*(1+$E$17)))/(1+$E$17),IF('Verwaltung (ausblenden)'!$D$11=TRUE,(1-EXP(-$E$14*S23/100*(1-$E$17)))/(1-$E$17*EXP(-$E$14*(1-$E$17))),0))","v":{"v":0.10255295940266582,"d":"0.1"}},{"$f":"IF('Verwaltung (ausblenden)'!$D$10=TRUE,(1-EXP(-$E$14*T23/100*(1+$E$17)))/(1+$E$17),IF('Verwaltung (ausblenden)'!$D$11=TRUE,(1-EXP(-$E$14*T23/100*(1-$E$17)))/(1-$E$17*EXP(-$E$14*(1-$E$17))),0))","v":{"v":0.10919987710875374,"d":"0.1"}},{"$f":"IF('Verwaltung (ausblenden)'!$D$10=TRUE,(1-EXP(-$E$14*U23/100*(1+$E$17)))/(1+$E$17),IF('Verwaltung (ausblenden)'!$D$11=TRUE,(1-EXP(-$E$14*U23/100*(1-$E$17)))/(1-$E$17*EXP(-$E$14*(1-$E$17))),0))","v":{"v":0.11576239445959709,"d":"0.1"}},{"$f":"IF('Verwaltung (ausblenden)'!$D$10=TRUE,(1-EXP(-$E$14*V23/100*(1+$E$17)))/(1+$E$17),IF('Verwaltung (ausblenden)'!$D$11=TRUE,(1-EXP(-$E$14*V23/100*(1-$E$17)))/(1-$E$17*EXP(-$E$14*(1-$E$17))),0))","v":{"v":0.12224158314289842,"d":"0.1"}},{"$f":"IF('Verwaltung (ausblenden)'!$D$10=TRUE,(1-EXP(-$E$14*W23/100*(1+$E$17)))/(1+$E$17),IF('Verwaltung (ausblenden)'!$D$11=TRUE,(1-EXP(-$E$14*W23/100*(1-$E$17)))/(1-$E$17*EXP(-$E$14*(1-$E$17))),0))","v":{"v":0.1286385012384255,"d":"0.1"}},{"$f":"IF('Verwaltung (ausblenden)'!$D$10=TRUE,(1-EXP(-$E$14*X23/100*(1+$E$17)))/(1+$E$17),IF('Verwaltung (ausblenden)'!$D$11=TRUE,(1-EXP(-$E$14*X23/100*(1-$E$17)))/(1-$E$17*EXP(-$E$14*(1-$E$17))),0))","v":{"v":0.13495419339080034,"d":"0.1"}},{"$f":"IF('Verwaltung (ausblenden)'!$D$10=TRUE,(1-EXP(-$E$14*Y23/100*(1+$E$17)))/(1+$E$17),IF('Verwaltung (ausblenden)'!$D$11=TRUE,(1-EXP(-$E$14*Y23/100*(1-$E$17)))/(1-$E$17*EXP(-$E$14*(1-$E$17))),0))","v":{"v":0.14118969098009404,"d":"0.1"}},{"$f":"IF('Verwaltung (ausblenden)'!$D$10=TRUE,(1-EXP(-$E$14*Z23/100*(1+$E$17)))/(1+$E$17),IF('Verwaltung (ausblenden)'!$D$11=TRUE,(1-EXP(-$E$14*Z23/100*(1-$E$17)))/(1-$E$17*EXP(-$E$14*(1-$E$17))),0))","v":{"v":0.14734601229025596,"d":"0.1"}},{"$f":"IF('Verwaltung (ausblenden)'!$D$10=TRUE,(1-EXP(-$E$14*AA23/100*(1+$E$17)))/(1+$E$17),IF('Verwaltung (ausblenden)'!$D$11=TRUE,(1-EXP(-$E$14*AA23/100*(1-$E$17)))/(1-$E$17*EXP(-$E$14*(1-$E$17))),0))","v":{"v":0.1534241626754039,"d":"0.2"}},{"$f":"IF('Verwaltung (ausblenden)'!$D$10=TRUE,(1-EXP(-$E$14*AB23/100*(1+$E$17)))/(1+$E$17),IF('Verwaltung (ausblenden)'!$D$11=TRUE,(1-EXP(-$E$14*AB23/100*(1-$E$17)))/(1-$E$17*EXP(-$E$14*(1-$E$17))),0))","v":{"v":0.1594251347240025,"d":"0.2"}},{"$f":"IF('Verwaltung (ausblenden)'!$D$10=TRUE,(1-EXP(-$E$14*AC23/100*(1+$E$17)))/(1+$E$17),IF('Verwaltung (ausblenden)'!$D$11=TRUE,(1-EXP(-$E$14*AC23/100*(1-$E$17)))/(1-$E$17*EXP(-$E$14*(1-$E$17))),0))","v":{"v":0.1653499084209576,"d":"0.2"}},{"$f":"IF('Verwaltung (ausblenden)'!$D$10=TRUE,(1-EXP(-$E$14*AD23/100*(1+$E$17)))/(1+$E$17),IF('Verwaltung (ausblenden)'!$D$11=TRUE,(1-EXP(-$E$14*AD23/100*(1-$E$17)))/(1-$E$17*EXP(-$E$14*(1-$E$17))),0))","v":{"v":0.17119945130765168,"d":"0.2"}},{"$f":"IF('Verwaltung (ausblenden)'!$D$10=TRUE,(1-EXP(-$E$14*AE23/100*(1+$E$17)))/(1+$E$17),IF('Verwaltung (ausblenden)'!$D$11=TRUE,(1-EXP(-$E$14*AE23/100*(1-$E$17)))/(1-$E$17*EXP(-$E$14*(1-$E$17))),0))","v":{"v":0.17697471863994815,"d":"0.2"}},{"$f":"IF('Verwaltung (ausblenden)'!$D$10=TRUE,(1-EXP(-$E$14*AF23/100*(1+$E$17)))/(1+$E$17),IF('Verwaltung (ausblenden)'!$D$11=TRUE,(1-EXP(-$E$14*AF23/100*(1-$E$17)))/(1-$E$17*EXP(-$E$14*(1-$E$17))),0))","v":{"v":0.18267665354418838,"d":"0.2"}},{"$f":"IF('Verwaltung (ausblenden)'!$D$10=TRUE,(1-EXP(-$E$14*AG23/100*(1+$E$17)))/(1+$E$17),IF('Verwaltung (ausblenden)'!$D$11=TRUE,(1-EXP(-$E$14*AG23/100*(1-$E$17)))/(1-$E$17*EXP(-$E$14*(1-$E$17))),0))","v":{"v":0.18830618717120823,"d":"0.2"}},{"$f":"IF('Verwaltung (ausblenden)'!$D$10=TRUE,(1-EXP(-$E$14*AH23/100*(1+$E$17)))/(1+$E$17),IF('Verwaltung (ausblenden)'!$D$11=TRUE,(1-EXP(-$E$14*AH23/100*(1-$E$17)))/(1-$E$17*EXP(-$E$14*(1-$E$17))),0))","v":{"v":0.19386423884839946,"d":"0.2"}},{"$f":"IF('Verwaltung (ausblenden)'!$D$10=TRUE,(1-EXP(-$E$14*AI23/100*(1+$E$17)))/(1+$E$17),IF('Verwaltung (ausblenden)'!$D$11=TRUE,(1-EXP(-$E$14*AI23/100*(1-$E$17)))/(1-$E$17*EXP(-$E$14*(1-$E$17))),0))","v":{"v":0.1993517162298396,"d":"0.2"}},{"$f":"IF('Verwaltung (ausblenden)'!$D$10=TRUE,(1-EXP(-$E$14*AJ23/100*(1+$E$17)))/(1+$E$17),IF('Verwaltung (ausblenden)'!$D$11=TRUE,(1-EXP(-$E$14*AJ23/100*(1-$E$17)))/(1-$E$17*EXP(-$E$14*(1-$E$17))),0))","v":{"v":0.204769515444516,"d":"0.2"}},{"$f":"IF('Verwaltung (ausblenden)'!$D$10=TRUE,(1-EXP(-$E$14*AK23/100*(1+$E$17)))/(1+$E$17),IF('Verwaltung (ausblenden)'!$D$11=TRUE,(1-EXP(-$E$14*AK23/100*(1-$E$17)))/(1-$E$17*EXP(-$E$14*(1-$E$17))),0))","v":{"v":0.21011852124266742,"d":"0.2"}},{"$f":"IF('Verwaltung (ausblenden)'!$D$10=TRUE,(1-EXP(-$E$14*AL23/100*(1+$E$17)))/(1+$E$17),IF('Verwaltung (ausblenden)'!$D$11=TRUE,(1-EXP(-$E$14*AL23/100*(1-$E$17)))/(1-$E$17*EXP(-$E$14*(1-$E$17))),0))","v":{"v":0.2153996071402677,"d":"0.2"}},{"$f":"IF('Verwaltung (ausblenden)'!$D$10=TRUE,(1-EXP(-$E$14*AM23/100*(1+$E$17)))/(1+$E$17),IF('Verwaltung (ausblenden)'!$D$11=TRUE,(1-EXP(-$E$14*AM23/100*(1-$E$17)))/(1-$E$17*EXP(-$E$14*(1-$E$17))),0))","v":{"v":0.2206136355616747,"d":"0.2"}},{"$f":"IF('Verwaltung (ausblenden)'!$D$10=TRUE,(1-EXP(-$E$14*AN23/100*(1+$E$17)))/(1+$E$17),IF('Verwaltung (ausblenden)'!$D$11=TRUE,(1-EXP(-$E$14*AN23/100*(1-$E$17)))/(1-$E$17*EXP(-$E$14*(1-$E$17))),0))","v":{"v":0.22576145798046812,"d":"0.2"}},{"$f":"IF('Verwaltung (ausblenden)'!$D$10=TRUE,(1-EXP(-$E$14*AO23/100*(1+$E$17)))/(1+$E$17),IF('Verwaltung (ausblenden)'!$D$11=TRUE,(1-EXP(-$E$14*AO23/100*(1-$E$17)))/(1-$E$17*EXP(-$E$14*(1-$E$17))),0))","v":{"v":0.23084391505849852,"d":"0.2"}},{"$f":"IF('Verwaltung (ausblenden)'!$D$10=TRUE,(1-EXP(-$E$14*AP23/100*(1+$E$17)))/(1+$E$17),IF('Verwaltung (ausblenden)'!$D$11=TRUE,(1-EXP(-$E$14*AP23/100*(1-$E$17)))/(1-$E$17*EXP(-$E$14*(1-$E$17))),0))","v":{"v":0.23586183678317144,"d":"0.2"}},{"$f":"IF('Verwaltung (ausblenden)'!$D$10=TRUE,(1-EXP(-$E$14*AQ23/100*(1+$E$17)))/(1+$E$17),IF('Verwaltung (ausblenden)'!$D$11=TRUE,(1-EXP(-$E$14*AQ23/100*(1-$E$17)))/(1-$E$17*EXP(-$E$14*(1-$E$17))),0))","v":{"v":0.24081604260298747,"d":"0.2"}},{"$f":"IF('Verwaltung (ausblenden)'!$D$10=TRUE,(1-EXP(-$E$14*AR23/100*(1+$E$17)))/(1+$E$17),IF('Verwaltung (ausblenden)'!$D$11=TRUE,(1-EXP(-$E$14*AR23/100*(1-$E$17)))/(1-$E$17*EXP(-$E$14*(1-$E$17))),0))","v":{"v":0.24570734156136262,"d":"0.2"}},{"$f":"IF('Verwaltung (ausblenden)'!$D$10=TRUE,(1-EXP(-$E$14*AS23/100*(1+$E$17)))/(1+$E$17),IF('Verwaltung (ausblenden)'!$D$11=TRUE,(1-EXP(-$E$14*AS23/100*(1-$E$17)))/(1-$E$17*EXP(-$E$14*(1-$E$17))),0))","v":{"v":0.25053653242874735,"d":"0.3"}},{"$f":"IF('Verwaltung (ausblenden)'!$D$10=TRUE,(1-EXP(-$E$14*AT23/100*(1+$E$17)))/(1+$E$17),IF('Verwaltung (ausblenden)'!$D$11=TRUE,(1-EXP(-$E$14*AT23/100*(1-$E$17)))/(1-$E$17*EXP(-$E$14*(1-$E$17))),0))","v":{"v":0.2553044038330709,"d":"0.3"}},{"$f":"IF('Verwaltung (ausblenden)'!$D$10=TRUE,(1-EXP(-$E$14*AU23/100*(1+$E$17)))/(1+$E$17),IF('Verwaltung (ausblenden)'!$D$11=TRUE,(1-EXP(-$E$14*AU23/100*(1-$E$17)))/(1-$E$17*EXP(-$E$14*(1-$E$17))),0))","v":{"v":0.2600117343885258,"d":"0.3"}},{"$f":"IF('Verwaltung (ausblenden)'!$D$10=TRUE,(1-EXP(-$E$14*AV23/100*(1+$E$17)))/(1+$E$17),IF('Verwaltung (ausblenden)'!$D$11=TRUE,(1-EXP(-$E$14*AV23/100*(1-$E$17)))/(1-$E$17*EXP(-$E$14*(1-$E$17))),0))","v":{"v":0.2646592928227207,"d":"0.3"}},{"$f":"IF('Verwaltung (ausblenden)'!$D$10=TRUE,(1-EXP(-$E$14*AW23/100*(1+$E$17)))/(1+$E$17),IF('Verwaltung (ausblenden)'!$D$11=TRUE,(1-EXP(-$E$14*AW23/100*(1-$E$17)))/(1-$E$17*EXP(-$E$14*(1-$E$17))),0))","v":{"v":0.2692478381022159,"d":"0.3"}},{"$f":"IF('Verwaltung (ausblenden)'!$D$10=TRUE,(1-EXP(-$E$14*AX23/100*(1+$E$17)))/(1+$E$17),IF('Verwaltung (ausblenden)'!$D$11=TRUE,(1-EXP(-$E$14*AX23/100*(1-$E$17)))/(1-$E$17*EXP(-$E$14*(1-$E$17))),0))","v":{"v":0.2737781195564661,"d":"0.3"}},{"$f":"IF('Verwaltung (ausblenden)'!$D$10=TRUE,(1-EXP(-$E$14*AY23/100*(1+$E$17)))/(1+$E$17),IF('Verwaltung (ausblenden)'!$D$11=TRUE,(1-EXP(-$E$14*AY23/100*(1-$E$17)))/(1-$E$17*EXP(-$E$14*(1-$E$17))),0))","v":{"v":0.27825087700018947,"d":"0.3"}},{"$f":"IF('Verwaltung (ausblenden)'!$D$10=TRUE,(1-EXP(-$E$14*AZ23/100*(1+$E$17)))/(1+$E$17),IF('Verwaltung (ausblenden)'!$D$11=TRUE,(1-EXP(-$E$14*AZ23/100*(1-$E$17)))/(1-$E$17*EXP(-$E$14*(1-$E$17))),0))","v":{"v":0.28266684085418214,"d":"0.3"}},{"$f":"IF('Verwaltung (ausblenden)'!$D$10=TRUE,(1-EXP(-$E$14*BA23/100*(1+$E$17)))/(1+$E$17),IF('Verwaltung (ausblenden)'!$D$11=TRUE,(1-EXP(-$E$14*BA23/100*(1-$E$17)))/(1-$E$17*EXP(-$E$14*(1-$E$17))),0))","v":{"v":0.2870267322645996,"d":"0.3"}},{"$f":"IF('Verwaltung (ausblenden)'!$D$10=TRUE,(1-EXP(-$E$14*BB23/100*(1+$E$17)))/(1+$E$17),IF('Verwaltung (ausblenden)'!$D$11=TRUE,(1-EXP(-$E$14*BB23/100*(1-$E$17)))/(1-$E$17*EXP(-$E$14*(1-$E$17))),0))","v":{"v":0.29133126322072256,"d":"0.3"}},{"$f":"IF('Verwaltung (ausblenden)'!$D$10=TRUE,(1-EXP(-$E$14*BC23/100*(1+$E$17)))/(1+$E$17),IF('Verwaltung (ausblenden)'!$D$11=TRUE,(1-EXP(-$E$14*BC23/100*(1-$E$17)))/(1-$E$17*EXP(-$E$14*(1-$E$17))),0))","v":{"v":0.2955811366712283,"d":"0.3"}},{"$f":"IF('Verwaltung (ausblenden)'!$D$10=TRUE,(1-EXP(-$E$14*BD23/100*(1+$E$17)))/(1+$E$17),IF('Verwaltung (ausblenden)'!$D$11=TRUE,(1-EXP(-$E$14*BD23/100*(1-$E$17)))/(1-$E$17*EXP(-$E$14*(1-$E$17))),0))","v":{"v":0.29977704663898497,"d":"0.3"}},{"$f":"IF('Verwaltung (ausblenden)'!$D$10=TRUE,(1-EXP(-$E$14*BE23/100*(1+$E$17)))/(1+$E$17),IF('Verwaltung (ausblenden)'!$D$11=TRUE,(1-EXP(-$E$14*BE23/100*(1-$E$17)))/(1-$E$17*EXP(-$E$14*(1-$E$17))),0))","v":{"v":0.30391967833438865,"d":"0.3"}},{"$f":"IF('Verwaltung (ausblenden)'!$D$10=TRUE,(1-EXP(-$E$14*BF23/100*(1+$E$17)))/(1+$E$17),IF('Verwaltung (ausblenden)'!$D$11=TRUE,(1-EXP(-$E$14*BF23/100*(1-$E$17)))/(1-$E$17*EXP(-$E$14*(1-$E$17))),0))","v":{"v":0.30800970826726126,"d":"0.3"}},{"$f":"IF('Verwaltung (ausblenden)'!$D$10=TRUE,(1-EXP(-$E$14*BG23/100*(1+$E$17)))/(1+$E$17),IF('Verwaltung (ausblenden)'!$D$11=TRUE,(1-EXP(-$E$14*BG23/100*(1-$E$17)))/(1-$E$17*EXP(-$E$14*(1-$E$17))),0))","v":{"v":0.31204780435732743,"d":"0.3"}},{"$f":"IF('Verwaltung (ausblenden)'!$D$10=TRUE,(1-EXP(-$E$14*BH23/100*(1+$E$17)))/(1+$E$17),IF('Verwaltung (ausblenden)'!$D$11=TRUE,(1-EXP(-$E$14*BH23/100*(1-$E$17)))/(1-$E$17*EXP(-$E$14*(1-$E$17))),0))","v":{"v":0.31603462604328875,"d":"0.3"}},{"$f":"IF('Verwaltung (ausblenden)'!$D$10=TRUE,(1-EXP(-$E$14*BI23/100*(1+$E$17)))/(1+$E$17),IF('Verwaltung (ausblenden)'!$D$11=TRUE,(1-EXP(-$E$14*BI23/100*(1-$E$17)))/(1-$E$17*EXP(-$E$14*(1-$E$17))),0))","v":{"v":0.3199708243905133,"d":"0.3"}},{"$f":"IF('Verwaltung (ausblenden)'!$D$10=TRUE,(1-EXP(-$E$14*BJ23/100*(1+$E$17)))/(1+$E$17),IF('Verwaltung (ausblenden)'!$D$11=TRUE,(1-EXP(-$E$14*BJ23/100*(1-$E$17)))/(1-$E$17*EXP(-$E$14*(1-$E$17))),0))","v":{"v":0.3238570421973566,"d":"0.3"}},{"$f":"IF('Verwaltung (ausblenden)'!$D$10=TRUE,(1-EXP(-$E$14*BK23/100*(1+$E$17)))/(1+$E$17),IF('Verwaltung (ausblenden)'!$D$11=TRUE,(1-EXP(-$E$14*BK23/100*(1-$E$17)))/(1-$E$17*EXP(-$E$14*(1-$E$17))),0))","v":{"v":0.32769391410013465,"d":"0.3"}},{"$f":"IF('Verwaltung (ausblenden)'!$D$10=TRUE,(1-EXP(-$E$14*BL23/100*(1+$E$17)))/(1+$E$17),IF('Verwaltung (ausblenden)'!$D$11=TRUE,(1-EXP(-$E$14*BL23/100*(1-$E$17)))/(1-$E$17*EXP(-$E$14*(1-$E$17))),0))","v":{"v":0.3314820666767615,"d":"0.3"}},{"$f":"IF('Verwaltung (ausblenden)'!$D$10=TRUE,(1-EXP(-$E$14*BM23/100*(1+$E$17)))/(1+$E$17),IF('Verwaltung (ausblenden)'!$D$11=TRUE,(1-EXP(-$E$14*BM23/100*(1-$E$17)))/(1-$E$17*EXP(-$E$14*(1-$E$17))),0))","v":{"v":0.33522211854907324,"d":"0.3"}},{"$f":"IF('Verwaltung (ausblenden)'!$D$10=TRUE,(1-EXP(-$E$14*BN23/100*(1+$E$17)))/(1+$E$17),IF('Verwaltung (ausblenden)'!$D$11=TRUE,(1-EXP(-$E$14*BN23/100*(1-$E$17)))/(1-$E$17*EXP(-$E$14*(1-$E$17))),0))","v":{"v":0.338914680483851,"d":"0.3"}},{"$f":"IF('Verwaltung (ausblenden)'!$D$10=TRUE,(1-EXP(-$E$14*BO23/100*(1+$E$17)))/(1+$E$17),IF('Verwaltung (ausblenden)'!$D$11=TRUE,(1-EXP(-$E$14*BO23/100*(1-$E$17)))/(1-$E$17*EXP(-$E$14*(1-$E$17))),0))","v":{"v":0.3425603554925618,"d":"0.3"}},{"$f":"IF('Verwaltung (ausblenden)'!$D$10=TRUE,(1-EXP(-$E$14*BP23/100*(1+$E$17)))/(1+$E$17),IF('Verwaltung (ausblenden)'!$D$11=TRUE,(1-EXP(-$E$14*BP23/100*(1-$E$17)))/(1-$E$17*EXP(-$E$14*(1-$E$17))),0))","v":{"v":0.3461597389298336,"d":"0.3"}},{"$f":"IF('Verwaltung (ausblenden)'!$D$10=TRUE,(1-EXP(-$E$14*BQ23/100*(1+$E$17)))/(1+$E$17),IF('Verwaltung (ausblenden)'!$D$11=TRUE,(1-EXP(-$E$14*BQ23/100*(1-$E$17)))/(1-$E$17*EXP(-$E$14*(1-$E$17))),0))","v":{"v":0.3497134185906784,"d":"0.3"}},{"$f":"IF('Verwaltung (ausblenden)'!$D$10=TRUE,(1-EXP(-$E$14*BR23/100*(1+$E$17)))/(1+$E$17),IF('Verwaltung (ausblenden)'!$D$11=TRUE,(1-EXP(-$E$14*BR23/100*(1-$E$17)))/(1-$E$17*EXP(-$E$14*(1-$E$17))),0))","v":{"v":0.3532219748064825,"d":"0.4"}},{"$f":"IF('Verwaltung (ausblenden)'!$D$10=TRUE,(1-EXP(-$E$14*BS23/100*(1+$E$17)))/(1+$E$17),IF('Verwaltung (ausblenden)'!$D$11=TRUE,(1-EXP(-$E$14*BS23/100*(1-$E$17)))/(1-$E$17*EXP(-$E$14*(1-$E$17))),0))","v":{"v":0.3566859805397768,"d":"0.4"}},{"$f":"IF('Verwaltung (ausblenden)'!$D$10=TRUE,(1-EXP(-$E$14*BT23/100*(1+$E$17)))/(1+$E$17),IF('Verwaltung (ausblenden)'!$D$11=TRUE,(1-EXP(-$E$14*BT23/100*(1-$E$17)))/(1-$E$17*EXP(-$E$14*(1-$E$17))),0))","v":{"v":0.36010600147780414,"d":"0.4"}},{"$f":"IF('Verwaltung (ausblenden)'!$D$10=TRUE,(1-EXP(-$E$14*BU23/100*(1+$E$17)))/(1+$E$17),IF('Verwaltung (ausblenden)'!$D$11=TRUE,(1-EXP(-$E$14*BU23/100*(1-$E$17)))/(1-$E$17*EXP(-$E$14*(1-$E$17))),0))","v":{"v":0.3634825961248983,"d":"0.4"}},{"$f":"IF('Verwaltung (ausblenden)'!$D$10=TRUE,(1-EXP(-$E$14*BV23/100*(1+$E$17)))/(1+$E$17),IF('Verwaltung (ausblenden)'!$D$11=TRUE,(1-EXP(-$E$14*BV23/100*(1-$E$17)))/(1-$E$17*EXP(-$E$14*(1-$E$17))),0))","v":{"v":0.36681631589369046,"d":"0.4"}},{"$f":"IF('Verwaltung (ausblenden)'!$D$10=TRUE,(1-EXP(-$E$14*BW23/100*(1+$E$17)))/(1+$E$17),IF('Verwaltung (ausblenden)'!$D$11=TRUE,(1-EXP(-$E$14*BW23/100*(1-$E$17)))/(1-$E$17*EXP(-$E$14*(1-$E$17))),0))","v":{"v":0.37010770519515723,"d":"0.4"}},{"$f":"IF('Verwaltung (ausblenden)'!$D$10=TRUE,(1-EXP(-$E$14*BX23/100*(1+$E$17)))/(1+$E$17),IF('Verwaltung (ausblenden)'!$D$11=TRUE,(1-EXP(-$E$14*BX23/100*(1-$E$17)))/(1-$E$17*EXP(-$E$14*(1-$E$17))),0))","v":{"v":0.37335730152752555,"d":"0.4"}},{"$f":"IF('Verwaltung (ausblenden)'!$D$10=TRUE,(1-EXP(-$E$14*BY23/100*(1+$E$17)))/(1+$E$17),IF('Verwaltung (ausblenden)'!$D$11=TRUE,(1-EXP(-$E$14*BY23/100*(1-$E$17)))/(1-$E$17*EXP(-$E$14*(1-$E$17))),0))","v":{"v":0.3765656355640476,"d":"0.4"}},{"$f":"IF('Verwaltung (ausblenden)'!$D$10=TRUE,(1-EXP(-$E$14*BZ23/100*(1+$E$17)))/(1+$E$17),IF('Verwaltung (ausblenden)'!$D$11=TRUE,(1-EXP(-$E$14*BZ23/100*(1-$E$17)))/(1-$E$17*EXP(-$E$14*(1-$E$17))),0))","v":{"v":0.37973323123966335,"d":"0.4"}},{"$f":"IF('Verwaltung (ausblenden)'!$D$10=TRUE,(1-EXP(-$E$14*CA23/100*(1+$E$17)))/(1+$E$17),IF('Verwaltung (ausblenden)'!$D$11=TRUE,(1-EXP(-$E$14*CA23/100*(1-$E$17)))/(1-$E$17*EXP(-$E$14*(1-$E$17))),0))","v":{"v":0.3828606058365604,"d":"0.4"}},{"$f":"IF('Verwaltung (ausblenden)'!$D$10=TRUE,(1-EXP(-$E$14*CB23/100*(1+$E$17)))/(1+$E$17),IF('Verwaltung (ausblenden)'!$D$11=TRUE,(1-EXP(-$E$14*CB23/100*(1-$E$17)))/(1-$E$17*EXP(-$E$14*(1-$E$17))),0))","v":{"v":0.3859482700686489,"d":"0.4"}},{"$f":"IF('Verwaltung (ausblenden)'!$D$10=TRUE,(1-EXP(-$E$14*CC23/100*(1+$E$17)))/(1+$E$17),IF('Verwaltung (ausblenden)'!$D$11=TRUE,(1-EXP(-$E$14*CC23/100*(1-$E$17)))/(1-$E$17*EXP(-$E$14*(1-$E$17))),0))","v":{"v":0.3889967281649634,"d":"0.4"}},{"$f":"IF('Verwaltung (ausblenden)'!$D$10=TRUE,(1-EXP(-$E$14*CD23/100*(1+$E$17)))/(1+$E$17),IF('Verwaltung (ausblenden)'!$D$11=TRUE,(1-EXP(-$E$14*CD23/100*(1-$E$17)))/(1-$E$17*EXP(-$E$14*(1-$E$17))),0))","v":{"v":0.39200647795200516,"d":"0.4"}},{"$f":"IF('Verwaltung (ausblenden)'!$D$10=TRUE,(1-EXP(-$E$14*CE23/100*(1+$E$17)))/(1+$E$17),IF('Verwaltung (ausblenden)'!$D$11=TRUE,(1-EXP(-$E$14*CE23/100*(1-$E$17)))/(1-$E$17*EXP(-$E$14*(1-$E$17))),0))","v":{"v":0.39497801093504015,"d":"0.4"}},{"$f":"IF('Verwaltung (ausblenden)'!$D$10=TRUE,(1-EXP(-$E$14*CF23/100*(1+$E$17)))/(1+$E$17),IF('Verwaltung (ausblenden)'!$D$11=TRUE,(1-EXP(-$E$14*CF23/100*(1-$E$17)))/(1-$E$17*EXP(-$E$14*(1-$E$17))),0))","v":{"v":0.3979118123783631,"d":"0.4"}},{"$f":"IF('Verwaltung (ausblenden)'!$D$10=TRUE,(1-EXP(-$E$14*CG23/100*(1+$E$17)))/(1+$E$17),IF('Verwaltung (ausblenden)'!$D$11=TRUE,(1-EXP(-$E$14*CG23/100*(1-$E$17)))/(1-$E$17*EXP(-$E$14*(1-$E$17))),0))","v":{"v":0.40080836138454423,"d":"0.4"}},{"$f":"IF('Verwaltung (ausblenden)'!$D$10=TRUE,(1-EXP(-$E$14*CH23/100*(1+$E$17)))/(1+$E$17),IF('Verwaltung (ausblenden)'!$D$11=TRUE,(1-EXP(-$E$14*CH23/100*(1-$E$17)))/(1-$E$17*EXP(-$E$14*(1-$E$17))),0))","v":{"v":0.40366813097266807,"d":"0.4"}},{"$f":"IF('Verwaltung (ausblenden)'!$D$10=TRUE,(1-EXP(-$E$14*CI23/100*(1+$E$17)))/(1+$E$17),IF('Verwaltung (ausblenden)'!$D$11=TRUE,(1-EXP(-$E$14*CI23/100*(1-$E$17)))/(1-$E$17*EXP(-$E$14*(1-$E$17))),0))","v":{"v":0.40649158815557973,"d":"0.4"}},{"$f":"IF('Verwaltung (ausblenden)'!$D$10=TRUE,(1-EXP(-$E$14*CJ23/100*(1+$E$17)))/(1+$E$17),IF('Verwaltung (ausblenden)'!$D$11=TRUE,(1-EXP(-$E$14*CJ23/100*(1-$E$17)))/(1-$E$17*EXP(-$E$14*(1-$E$17))),0))","v":{"v":0.40927919401615026,"d":"0.4"}},{"$f":"IF('Verwaltung (ausblenden)'!$D$10=TRUE,(1-EXP(-$E$14*CK23/100*(1+$E$17)))/(1+$E$17),IF('Verwaltung (ausblenden)'!$D$11=TRUE,(1-EXP(-$E$14*CK23/100*(1-$E$17)))/(1-$E$17*EXP(-$E$14*(1-$E$17))),0))","v":{"v":0.41203140378257364,"d":"0.4"}},{"$f":"IF('Verwaltung (ausblenden)'!$D$10=TRUE,(1-EXP(-$E$14*CL23/100*(1+$E$17)))/(1+$E$17),IF('Verwaltung (ausblenden)'!$D$11=TRUE,(1-EXP(-$E$14*CL23/100*(1-$E$17)))/(1-$E$17*EXP(-$E$14*(1-$E$17))),0))","v":{"v":0.4147486669027069,"d":"0.4"}},{"$f":"IF('Verwaltung (ausblenden)'!$D$10=TRUE,(1-EXP(-$E$14*CM23/100*(1+$E$17)))/(1+$E$17),IF('Verwaltung (ausblenden)'!$D$11=TRUE,(1-EXP(-$E$14*CM23/100*(1-$E$17)))/(1-$E$17*EXP(-$E$14*(1-$E$17))),0))","v":{"v":0.4174314271174676,"d":"0.4"}},{"$f":"IF('Verwaltung (ausblenden)'!$D$10=TRUE,(1-EXP(-$E$14*CN23/100*(1+$E$17)))/(1+$E$17),IF('Verwaltung (ausblenden)'!$D$11=TRUE,(1-EXP(-$E$14*CN23/100*(1-$E$17)))/(1-$E$17*EXP(-$E$14*(1-$E$17))),0))","v":{"v":0.42008012253329846,"d":"0.4"}},{"$f":"IF('Verwaltung (ausblenden)'!$D$10=TRUE,(1-EXP(-$E$14*CO23/100*(1+$E$17)))/(1+$E$17),IF('Verwaltung (ausblenden)'!$D$11=TRUE,(1-EXP(-$E$14*CO23/100*(1-$E$17)))/(1-$E$17*EXP(-$E$14*(1-$E$17))),0))","v":{"v":0.42269518569371173,"d":"0.4"}},{"$f":"IF('Verwaltung (ausblenden)'!$D$10=TRUE,(1-EXP(-$E$14*CP23/100*(1+$E$17)))/(1+$E$17),IF('Verwaltung (ausblenden)'!$D$11=TRUE,(1-EXP(-$E$14*CP23/100*(1-$E$17)))/(1-$E$17*EXP(-$E$14*(1-$E$17))),0))","v":{"v":0.42527704364992575,"d":"0.4"}},{"$f":"IF('Verwaltung (ausblenden)'!$D$10=TRUE,(1-EXP(-$E$14*CQ23/100*(1+$E$17)))/(1+$E$17),IF('Verwaltung (ausblenden)'!$D$11=TRUE,(1-EXP(-$E$14*CQ23/100*(1-$E$17)))/(1-$E$17*EXP(-$E$14*(1-$E$17))),0))","v":{"v":0.42782611803060433,"d":"0.4"}},{"$f":"IF('Verwaltung (ausblenden)'!$D$10=TRUE,(1-EXP(-$E$14*CR23/100*(1+$E$17)))/(1+$E$17),IF('Verwaltung (ausblenden)'!$D$11=TRUE,(1-EXP(-$E$14*CR23/100*(1-$E$17)))/(1-$E$17*EXP(-$E$14*(1-$E$17))),0))","v":{"v":0.4303428251107105,"d":"0.4"}},{"$f":"IF('Verwaltung (ausblenden)'!$D$10=TRUE,(1-EXP(-$E$14*CS23/100*(1+$E$17)))/(1+$E$17),IF('Verwaltung (ausblenden)'!$D$11=TRUE,(1-EXP(-$E$14*CS23/100*(1-$E$17)))/(1-$E$17*EXP(-$E$14*(1-$E$17))),0))","v":{"v":0.4328275758794855,"d":"0.4"}},{"$f":"IF('Verwaltung (ausblenden)'!$D$10=TRUE,(1-EXP(-$E$14*CT23/100*(1+$E$17)))/(1+$E$17),IF('Verwaltung (ausblenden)'!$D$11=TRUE,(1-EXP(-$E$14*CT23/100*(1-$E$17)))/(1-$E$17*EXP(-$E$14*(1-$E$17))),0))","v":{"v":0.43528077610756605,"d":"0.4"}},{"$f":"IF('Verwaltung (ausblenden)'!$D$10=TRUE,(1-EXP(-$E$14*CU23/100*(1+$E$17)))/(1+$E$17),IF('Verwaltung (ausblenden)'!$D$11=TRUE,(1-EXP(-$E$14*CU23/100*(1-$E$17)))/(1-$E$17*EXP(-$E$14*(1-$E$17))),0))","v":{"v":0.4377028264132478,"d":"0.4"}},{"$f":"IF('Verwaltung (ausblenden)'!$D$10=TRUE,(1-EXP(-$E$14*CV23/100*(1+$E$17)))/(1+$E$17),IF('Verwaltung (ausblenden)'!$D$11=TRUE,(1-EXP(-$E$14*CV23/100*(1-$E$17)))/(1-$E$17*EXP(-$E$14*(1-$E$17))),0))","v":{"v":0.44009412232790823,"d":"0.4"}},{"$f":"IF('Verwaltung (ausblenden)'!$D$10=TRUE,(1-EXP(-$E$14*CW23/100*(1+$E$17)))/(1+$E$17),IF('Verwaltung (ausblenden)'!$D$11=TRUE,(1-EXP(-$E$14*CW23/100*(1-$E$17)))/(1-$E$17*EXP(-$E$14*(1-$E$17))),0))","v":{"v":0.4424550543605986,"d":"0.4"}},{"$f":"IF('Verwaltung (ausblenden)'!$D$10=TRUE,(1-EXP(-$E$14*CX23/100*(1+$E$17)))/(1+$E$17),IF('Verwaltung (ausblenden)'!$D$11=TRUE,(1-EXP(-$E$14*CX23/100*(1-$E$17)))/(1-$E$17*EXP(-$E$14*(1-$E$17))),0))","v":{"v":0.44478600806181595,"d":"0.4"}},{"$f":"IF('Verwaltung (ausblenden)'!$D$10=TRUE,(1-EXP(-$E$14*CY23/100*(1+$E$17)))/(1+$E$17),IF('Verwaltung (ausblenden)'!$D$11=TRUE,(1-EXP(-$E$14*CY23/100*(1-$E$17)))/(1-$E$17*EXP(-$E$14*(1-$E$17))),0))","v":{"v":0.4470873640864649,"d":"0.4"}},{"$f":"IF('Verwaltung (ausblenden)'!$D$10=TRUE,(1-EXP(-$E$14*CZ23/100*(1+$E$17)))/(1+$E$17),IF('Verwaltung (ausblenden)'!$D$11=TRUE,(1-EXP(-$E$14*CZ23/100*(1-$E$17)))/(1-$E$17*EXP(-$E$14*(1-$E$17))),0))","v":{"v":0.4493594982560206,"d":"0.4"}},{"$f":"IF('Verwaltung (ausblenden)'!$D$10=TRUE,(1-EXP(-$E$14*DA23/100*(1+$E$17)))/(1+$E$17),IF('Verwaltung (ausblenden)'!$D$11=TRUE,(1-EXP(-$E$14*DA23/100*(1-$E$17)))/(1-$E$17*EXP(-$E$14*(1-$E$17))),0))","v":{"v":0.4516027816199015,"d":"0.5"}}]
[null,"Wärmeübertrager-Wirkungsgrad kaltes Fluid","ε2(x)","[-]",{"$f":"IF('Verwaltung (ausblenden)'!$D$10=TRUE,(1-EXP(-$E$15*E23/100*(1+$E$18)))/(1+$E$18),IF('Verwaltung (ausblenden)'!$D$11=TRUE,(1-EXP(-$E$15*(100-E23)/100*(1-$E$18)))/(1-$E$18*EXP(-$E$15*(1-$E$18))),0))","v":{"v":0,"d":"0.0"}},{"$f":"IF('Verwaltung (ausblenden)'!$D$10=TRUE,(1-EXP(-$E$15*F23/100*(1+$E$18)))/(1+$E$18),IF('Verwaltung (ausblenden)'!$D$11=TRUE,(1-EXP(-$E$15*(100-F23)/100*(1-$E$18)))/(1-$E$18*EXP(-$E$15*(1-$E$18))),0))","v":{"v":0.004748566996573587,"d":"0.0"}},{"$f":"IF('Verwaltung (ausblenden)'!$D$10=TRUE,(1-EXP(-$E$15*G23/100*(1+$E$18)))/(1+$E$18),IF('Verwaltung (ausblenden)'!$D$11=TRUE,(1-EXP(-$E$15*(100-G23)/100*(1-$E$18)))/(1-$E$18*EXP(-$E$15*(1-$E$18))),0))","v":{"v":9.436838265242142E-3,"d":"0.0"}},{"$f":"IF('Verwaltung (ausblenden)'!$D$10=TRUE,(1-EXP(-$E$15*H23/100*(1+$E$18)))/(1+$E$18),IF('Verwaltung (ausblenden)'!$D$11=TRUE,(1-EXP(-$E$15*(100-H23)/100*(1-$E$18)))/(1-$E$18*EXP(-$E$15*(1-$E$18))),0))","v":{"v":0.014065579421149417,"d":"0.0"}},{"$f":"IF('Verwaltung (ausblenden)'!$D$10=TRUE,(1-EXP(-$E$15*I23/100*(1+$E$18)))/(1+$E$18),IF('Verwaltung (ausblenden)'!$D$11=TRUE,(1-EXP(-$E$15*(100-I23)/100*(1-$E$18)))/(1-$E$18*EXP(-$E$15*(1-$E$18))),0))","v":{"v":0.018635546357912123,"d":"0.0"}},{"$f":"IF('Verwaltung (ausblenden)'!$D$10=TRUE,(1-EXP(-$E$15*J23/100*(1+$E$18)))/(1+$E$18),IF('Verwaltung (ausblenden)'!$D$11=TRUE,(1-EXP(-$E$15*(100-J23)/100*(1-$E$18)))/(1-$E$18*EXP(-$E$15*(1-$E$18))),0))","v":{"v":0.023147485371060657,"d":"0.0"}},{"$f":"IF('Verwaltung (ausblenden)'!$D$10=TRUE,(1-EXP(-$E$15*K23/100*(1+$E$18)))/(1+$E$18),IF('Verwaltung (ausblenden)'!$D$11=TRUE,(1-EXP(-$E$15*(100-K23)/100*(1-$E$18)))/(1-$E$18*EXP(-$E$15*(1-$E$18))),0))","v":{"v":0.027602133279912414,"d":"0.0"}},{"$f":"IF('Verwaltung (ausblenden)'!$D$10=TRUE,(1-EXP(-$E$15*L23/100*(1+$E$18)))/(1+$E$18),IF('Verwaltung (ausblenden)'!$D$11=TRUE,(1-EXP(-$E$15*(100-L23)/100*(1-$E$18)))/(1-$E$18*EXP(-$E$15*(1-$E$18))),0))","v":{"v":0.03200021754789766,"d":"0.0"}},{"$f":"IF('Verwaltung (ausblenden)'!$D$10=TRUE,(1-EXP(-$E$15*M23/100*(1+$E$18)))/(1+$E$18),IF('Verwaltung (ausblenden)'!$D$11=TRUE,(1-EXP(-$E$15*(100-M23)/100*(1-$E$18)))/(1-$E$18*EXP(-$E$15*(1-$E$18))),0))","v":{"v":0.036342456401357436,"d":"0.0"}},{"$f":"IF('Verwaltung (ausblenden)'!$D$10=TRUE,(1-EXP(-$E$15*N23/100*(1+$E$18)))/(1+$E$18),IF('Verwaltung (ausblenden)'!$D$11=TRUE,(1-EXP(-$E$15*(100-N23)/100*(1-$E$18)))/(1-$E$18*EXP(-$E$15*(1-$E$18))),0))","v":{"v":0.04062955894683297,"d":"0.0"}},{"$f":"IF('Verwaltung (ausblenden)'!$D$10=TRUE,(1-EXP(-$E$15*O23/100*(1+$E$18)))/(1+$E$18),IF('Verwaltung (ausblenden)'!$D$11=TRUE,(1-EXP(-$E$15*(100-O23)/100*(1-$E$18)))/(1-$E$18*EXP(-$E$15*(1-$E$18))),0))","v":{"v":0.04486222528686599,"d":"0.0"}},{"$f":"IF('Verwaltung (ausblenden)'!$D$10=TRUE,(1-EXP(-$E$15*P23/100*(1+$E$18)))/(1+$E$18),IF('Verwaltung (ausblenden)'!$D$11=TRUE,(1-EXP(-$E$15*(100-P23)/100*(1-$E$18)))/(1-$E$18*EXP(-$E$15*(1-$E$18))),0))","v":{"v":0.04904114663432857,"d":"0.0"}},{"$f":"IF('Verwaltung (ausblenden)'!$D$10=TRUE,(1-EXP(-$E$15*Q23/100*(1+$E$18)))/(1+$E$18),IF('Verwaltung (ausblenden)'!$D$11=TRUE,(1-EXP(-$E$15*(100-Q23)/100*(1-$E$18)))/(1-$E$18*EXP(-$E$15*(1-$E$18))),0))","v":{"v":0.05316700542530097,"d":"0.1"}},{"$f":"IF('Verwaltung (ausblenden)'!$D$10=TRUE,(1-EXP(-$E$15*R23/100*(1+$E$18)))/(1+$E$18),IF('Verwaltung (ausblenden)'!$D$11=TRUE,(1-EXP(-$E$15*(100-R23)/100*(1-$E$18)))/(1-$E$18*EXP(-$E$15*(1-$E$18))),0))","v":{"v":0.05724047543051661,"d":"0.1"}},{"$f":"IF('Verwaltung (ausblenden)'!$D$10=TRUE,(1-EXP(-$E$15*S23/100*(1+$E$18)))/(1+$E$18),IF('Verwaltung (ausblenden)'!$D$11=TRUE,(1-EXP(-$E$15*(100-S23)/100*(1-$E$18)))/(1-$E$18*EXP(-$E$15*(1-$E$18))),0))","v":{"v":0.06126222186539178,"d":"0.1"}},{"$f":"IF('Verwaltung (ausblenden)'!$D$10=TRUE,(1-EXP(-$E$15*T23/100*(1+$E$18)))/(1+$E$18),IF('Verwaltung (ausblenden)'!$D$11=TRUE,(1-EXP(-$E$15*(100-T23)/100*(1-$E$18)))/(1-$E$18*EXP(-$E$15*(1-$E$18))),0))","v":{"v":0.06523290149865811,"d":"0.1"}},{"$f":"IF('Verwaltung (ausblenden)'!$D$10=TRUE,(1-EXP(-$E$15*U23/100*(1+$E$18)))/(1+$E$18),IF('Verwaltung (ausblenden)'!$D$11=TRUE,(1-EXP(-$E$15*(100-U23)/100*(1-$E$18)))/(1-$E$18*EXP(-$E$15*(1-$E$18))),0))","v":{"v":0.0691531627596159,"d":"0.1"}},{"$f":"IF('Verwaltung (ausblenden)'!$D$10=TRUE,(1-EXP(-$E$15*V23/100*(1+$E$18)))/(1+$E$18),IF('Verwaltung (ausblenden)'!$D$11=TRUE,(1-EXP(-$E$15*(100-V23)/100*(1-$E$18)))/(1-$E$18*EXP(-$E$15*(1-$E$18))),0))","v":{"v":0.07302364584402535,"d":"0.1"}},{"$f":"IF('Verwaltung (ausblenden)'!$D$10=TRUE,(1-EXP(-$E$15*W23/100*(1+$E$18)))/(1+$E$18),IF('Verwaltung (ausblenden)'!$D$11=TRUE,(1-EXP(-$E$15*(100-W23)/100*(1-$E$18)))/(1-$E$18*EXP(-$E$15*(1-$E$18))),0))","v":{"v":0.07684498281865322,"d":"0.1"}},{"$f":"IF('Verwaltung (ausblenden)'!$D$10=TRUE,(1-EXP(-$E$15*X23/100*(1+$E$18)))/(1+$E$18),IF('Verwaltung (ausblenden)'!$D$11=TRUE,(1-EXP(-$E$15*(100-X23)/100*(1-$E$18)))/(1-$E$18*EXP(-$E$15*(1-$E$18))),0))","v":{"v":0.0806177977244924,"d":"0.1"}},{"$f":"IF('Verwaltung (ausblenden)'!$D$10=TRUE,(1-EXP(-$E$15*Y23/100*(1+$E$18)))/(1+$E$18),IF('Verwaltung (ausblenden)'!$D$11=TRUE,(1-EXP(-$E$15*(100-Y23)/100*(1-$E$18)))/(1-$E$18*EXP(-$E$15*(1-$E$18))),0))","v":{"v":0.08434270667867023,"d":"0.1"}},{"$f":"IF('Verwaltung (ausblenden)'!$D$10=TRUE,(1-EXP(-$E$15*Z23/100*(1+$E$18)))/(1+$E$18),IF('Verwaltung (ausblenden)'!$D$11=TRUE,(1-EXP(-$E$15*(100-Z23)/100*(1-$E$18)))/(1-$E$18*EXP(-$E$15*(1-$E$18))),0))","v":{"v":0.08802031797506331,"d":"0.1"}},{"$f":"IF('Verwaltung (ausblenden)'!$D$10=TRUE,(1-EXP(-$E$15*AA23/100*(1+$E$18)))/(1+$E$18),IF('Verwaltung (ausblenden)'!$D$11=TRUE,(1-EXP(-$E$15*(100-AA23)/100*(1-$E$18)))/(1-$E$18*EXP(-$E$15*(1-$E$18))),0))","v":{"v":0.09165123218363437,"d":"0.1"}},{"$f":"IF('Verwaltung (ausblenden)'!$D$10=TRUE,(1-EXP(-$E$15*AB23/100*(1+$E$18)))/(1+$E$18),IF('Verwaltung (ausblenden)'!$D$11=TRUE,(1-EXP(-$E$15*(100-AB23)/100*(1-$E$18)))/(1-$E$18*EXP(-$E$15*(1-$E$18))),0))","v":{"v":0.09523604224850807,"d":"0.1"}},{"$f":"IF('Verwaltung (ausblenden)'!$D$10=TRUE,(1-EXP(-$E$15*AC23/100*(1+$E$18)))/(1+$E$18),IF('Verwaltung (ausblenden)'!$D$11=TRUE,(1-EXP(-$E$15*(100-AC23)/100*(1-$E$18)))/(1-$E$18*EXP(-$E$15*(1-$E$18))),0))","v":{"v":0.0987753335848014,"d":"0.1"}},{"$f":"IF('Verwaltung (ausblenden)'!$D$10=TRUE,(1-EXP(-$E$15*AD23/100*(1+$E$18)))/(1+$E$18),IF('Verwaltung (ausblenden)'!$D$11=TRUE,(1-EXP(-$E$15*(100-AD23)/100*(1-$E$18)))/(1-$E$18*EXP(-$E$15*(1-$E$18))),0))","v":{"v":0.10226968417422443,"d":"0.1"}},{"$f":"IF('Verwaltung (ausblenden)'!$D$10=TRUE,(1-EXP(-$E$15*AE23/100*(1+$E$18)))/(1+$E$18),IF('Verwaltung (ausblenden)'!$D$11=TRUE,(1-EXP(-$E$15*(100-AE23)/100*(1-$E$18)))/(1-$E$18*EXP(-$E$15*(1-$E$18))),0))","v":{"v":0.10571966465946725,"d":"0.1"}},{"$f":"IF('Verwaltung (ausblenden)'!$D$10=TRUE,(1-EXP(-$E$15*AF23/100*(1+$E$18)))/(1+$E$18),IF('Verwaltung (ausblenden)'!$D$11=TRUE,(1-EXP(-$E$15*(100-AF23)/100*(1-$E$18)))/(1-$E$18*EXP(-$E$15*(1-$E$18))),0))","v":{"v":0.10912583843738849,"d":"0.1"}},{"$f":"IF('Verwaltung (ausblenden)'!$D$10=TRUE,(1-EXP(-$E$15*AG23/100*(1+$E$18)))/(1+$E$18),IF('Verwaltung (ausblenden)'!$D$11=TRUE,(1-EXP(-$E$15*(100-AG23)/100*(1-$E$18)))/(1-$E$18*EXP(-$E$15*(1-$E$18))),0))","v":{"v":0.11248876175102046,"d":"0.1"}},{"$f":"IF('Verwaltung (ausblenden)'!$D$10=TRUE,(1-EXP(-$E$15*AH23/100*(1+$E$18)))/(1+$E$18),IF('Verwaltung (ausblenden)'!$D$11=TRUE,(1-EXP(-$E$15*(100-AH23)/100*(1-$E$18)))/(1-$E$18*EXP(-$E$15*(1-$E$18))),0))","v":{"v":0.1158089837804059,"d":"0.1"}},{"$f":"IF('Verwaltung (ausblenden)'!$D$10=TRUE,(1-EXP(-$E$15*AI23/100*(1+$E$18)))/(1+$E$18),IF('Verwaltung (ausblenden)'!$D$11=TRUE,(1-EXP(-$E$15*(100-AI23)/100*(1-$E$18)))/(1-$E$18*EXP(-$E$15*(1-$E$18))),0))","v":{"v":0.11908704673228174,"d":"0.1"}},{"$f":"IF('Verwaltung (ausblenden)'!$D$10=TRUE,(1-EXP(-$E$15*AJ23/100*(1+$E$18)))/(1+$E$18),IF('Verwaltung (ausblenden)'!$D$11=TRUE,(1-EXP(-$E$15*(100-AJ23)/100*(1-$E$18)))/(1-$E$18*EXP(-$E$15*(1-$E$18))),0))","v":{"v":0.12232348592862367,"d":"0.1"}},{"$f":"IF('Verwaltung (ausblenden)'!$D$10=TRUE,(1-EXP(-$E$15*AK23/100*(1+$E$18)))/(1+$E$18),IF('Verwaltung (ausblenden)'!$D$11=TRUE,(1-EXP(-$E$15*(100-AK23)/100*(1-$E$18)))/(1-$E$18*EXP(-$E$15*(1-$E$18))),0))","v":{"v":0.12551882989406657,"d":"0.1"}},{"$f":"IF('Verwaltung (ausblenden)'!$D$10=TRUE,(1-EXP(-$E$15*AL23/100*(1+$E$18)))/(1+$E$18),IF('Verwaltung (ausblenden)'!$D$11=TRUE,(1-EXP(-$E$15*(100-AL23)/100*(1-$E$18)))/(1-$E$18*EXP(-$E$15*(1-$E$18))),0))","v":{"v":0.12867360044221485,"d":"0.1"}},{"$f":"IF('Verwaltung (ausblenden)'!$D$10=TRUE,(1-EXP(-$E$15*AM23/100*(1+$E$18)))/(1+$E$18),IF('Verwaltung (ausblenden)'!$D$11=TRUE,(1-EXP(-$E$15*(100-AM23)/100*(1-$E$18)))/(1-$E$18*EXP(-$E$15*(1-$E$18))),0))","v":{"v":0.13178831276085703,"d":"0.1"}},{"$f":"IF('Verwaltung (ausblenden)'!$D$10=TRUE,(1-EXP(-$E$15*AN23/100*(1+$E$18)))/(1+$E$18),IF('Verwaltung (ausblenden)'!$D$11=TRUE,(1-EXP(-$E$15*(100-AN23)/100*(1-$E$18)))/(1-$E$18*EXP(-$E$15*(1-$E$18))),0))","v":{"v":0.13486347549609803,"d":"0.1"}},{"$f":"IF('Verwaltung (ausblenden)'!$D$10=TRUE,(1-EXP(-$E$15*AO23/100*(1+$E$18)))/(1+$E$18),IF('Verwaltung (ausblenden)'!$D$11=TRUE,(1-EXP(-$E$15*(100-AO23)/100*(1-$E$18)))/(1-$E$18*EXP(-$E$15*(1-$E$18))),0))","v":{"v":0.13789959083542322,"d":"0.1"}},{"$f":"IF('Verwaltung (ausblenden)'!$D$10=TRUE,(1-EXP(-$E$15*AP23/100*(1+$E$18)))/(1+$E$18),IF('Verwaltung (ausblenden)'!$D$11=TRUE,(1-EXP(-$E$15*(100-AP23)/100*(1-$E$18)))/(1-$E$18*EXP(-$E$15*(1-$E$18))),0))","v":{"v":0.1408971545897081,"d":"0.1"}},{"$f":"IF('Verwaltung (ausblenden)'!$D$10=TRUE,(1-EXP(-$E$15*AQ23/100*(1+$E$18)))/(1+$E$18),IF('Verwaltung (ausblenden)'!$D$11=TRUE,(1-EXP(-$E$15*(100-AQ23)/100*(1-$E$18)))/(1-$E$18*EXP(-$E$15*(1-$E$18))),0))","v":{"v":0.14385665627418603,"d":"0.1"}},{"$f":"IF('Verwaltung (ausblenden)'!$D$10=TRUE,(1-EXP(-$E$15*AR23/100*(1+$E$18)))/(1+$E$18),IF('Verwaltung (ausblenden)'!$D$11=TRUE,(1-EXP(-$E$15*(100-AR23)/100*(1-$E$18)))/(1-$E$18*EXP(-$E$15*(1-$E$18))),0))","v":{"v":0.14677857918838863,"d":"0.1"}},{"$f":"IF('Verwaltung (ausblenden)'!$D$10=TRUE,(1-EXP(-$E$15*AS23/100*(1+$E$18)))/(1+$E$18),IF('Verwaltung (ausblenden)'!$D$11=TRUE,(1-EXP(-$E$15*(100-AS23)/100*(1-$E$18)))/(1-$E$18*EXP(-$E$15*(1-$E$18))),0))","v":{"v":0.14966340049507013,"d":"0.1"}},{"$f":"IF('Verwaltung (ausblenden)'!$D$10=TRUE,(1-EXP(-$E$15*AT23/100*(1+$E$18)))/(1+$E$18),IF('Verwaltung (ausblenden)'!$D$11=TRUE,(1-EXP(-$E$15*(100-AT23)/100*(1-$E$18)))/(1-$E$18*EXP(-$E$15*(1-$E$18))),0))","v":{"v":0.1525115912981307,"d":"0.2"}},{"$f":"IF('Verwaltung (ausblenden)'!$D$10=TRUE,(1-EXP(-$E$15*AU23/100*(1+$E$18)))/(1+$E$18),IF('Verwaltung (ausblenden)'!$D$11=TRUE,(1-EXP(-$E$15*(100-AU23)/100*(1-$E$18)))/(1-$E$18*EXP(-$E$15*(1-$E$18))),0))","v":{"v":0.15532361671954945,"d":"0.2"}},{"$f":"IF('Verwaltung (ausblenden)'!$D$10=TRUE,(1-EXP(-$E$15*AV23/100*(1+$E$18)))/(1+$E$18),IF('Verwaltung (ausblenden)'!$D$11=TRUE,(1-EXP(-$E$15*(100-AV23)/100*(1-$E$18)))/(1-$E$18*EXP(-$E$15*(1-$E$18))),0))","v":{"v":0.15809993597534092,"d":"0.2"}},{"$f":"IF('Verwaltung (ausblenden)'!$D$10=TRUE,(1-EXP(-$E$15*AW23/100*(1+$E$18)))/(1+$E$18),IF('Verwaltung (ausblenden)'!$D$11=TRUE,(1-EXP(-$E$15*(100-AW23)/100*(1-$E$18)))/(1-$E$18*EXP(-$E$15*(1-$E$18))),0))","v":{"v":0.16084100245054717,"d":"0.2"}},{"$f":"IF('Verwaltung (ausblenden)'!$D$10=TRUE,(1-EXP(-$E$15*AX23/100*(1+$E$18)))/(1+$E$18),IF('Verwaltung (ausblenden)'!$D$11=TRUE,(1-EXP(-$E$15*(100-AX23)/100*(1-$E$18)))/(1-$E$18*EXP(-$E$15*(1-$E$18))),0))","v":{"v":0.16354726377327725,"d":"0.2"}},{"$f":"IF('Verwaltung (ausblenden)'!$D$10=TRUE,(1-EXP(-$E$15*AY23/100*(1+$E$18)))/(1+$E$18),IF('Verwaltung (ausblenden)'!$D$11=TRUE,(1-EXP(-$E$15*(100-AY23)/100*(1-$E$18)))/(1-$E$18*EXP(-$E$15*(1-$E$18))),0))","v":{"v":0.1662191618878073,"d":"0.2"}},{"$f":"IF('Verwaltung (ausblenden)'!$D$10=TRUE,(1-EXP(-$E$15*AZ23/100*(1+$E$18)))/(1+$E$18),IF('Verwaltung (ausblenden)'!$D$11=TRUE,(1-EXP(-$E$15*(100-AZ23)/100*(1-$E$18)))/(1-$E$18*EXP(-$E$15*(1-$E$18))),0))","v":{"v":0.16885713312675157,"d":"0.2"}},{"$f":"IF('Verwaltung (ausblenden)'!$D$10=TRUE,(1-EXP(-$E$15*BA23/100*(1+$E$18)))/(1+$E$18),IF('Verwaltung (ausblenden)'!$D$11=TRUE,(1-EXP(-$E$15*(100-BA23)/100*(1-$E$18)))/(1-$E$18*EXP(-$E$15*(1-$E$18))),0))","v":{"v":0.17146160828231755,"d":"0.2"}},{"$f":"IF('Verwaltung (ausblenden)'!$D$10=TRUE,(1-EXP(-$E$15*BB23/100*(1+$E$18)))/(1+$E$18),IF('Verwaltung (ausblenden)'!$D$11=TRUE,(1-EXP(-$E$15*(100-BB23)/100*(1-$E$18)))/(1-$E$18*EXP(-$E$15*(1-$E$18))),0))","v":{"v":0.17403301267665627,"d":"0.2"}},{"$f":"IF('Verwaltung (ausblenden)'!$D$10=TRUE,(1-EXP(-$E$15*BC23/100*(1+$E$18)))/(1+$E$18),IF('Verwaltung (ausblenden)'!$D$11=TRUE,(1-EXP(-$E$15*(100-BC23)/100*(1-$E$18)))/(1-$E$18*EXP(-$E$15*(1-$E$18))),0))","v":{"v":0.1765717662313192,"d":"0.2"}},{"$f":"IF('Verwaltung (ausblenden)'!$D$10=TRUE,(1-EXP(-$E$15*BD23/100*(1+$E$18)))/(1+$E$18),IF('Verwaltung (ausblenden)'!$D$11=TRUE,(1-EXP(-$E$15*(100-BD23)/100*(1-$E$18)))/(1-$E$18*EXP(-$E$15*(1-$E$18))),0))","v":{"v":0.17907828353583333,"d":"0.2"}},{"$f":"IF('Verwaltung (ausblenden)'!$D$10=TRUE,(1-EXP(-$E$15*BE23/100*(1+$E$18)))/(1+$E$18),IF('Verwaltung (ausblenden)'!$D$11=TRUE,(1-EXP(-$E$15*(100-BE23)/100*(1-$E$18)))/(1-$E$18*EXP(-$E$15*(1-$E$18))),0))","v":{"v":0.18155297391540542,"d":"0.2"}},{"$f":"IF('Verwaltung (ausblenden)'!$D$10=TRUE,(1-EXP(-$E$15*BF23/100*(1+$E$18)))/(1+$E$18),IF('Verwaltung (ausblenden)'!$D$11=TRUE,(1-EXP(-$E$15*(100-BF23)/100*(1-$E$18)))/(1-$E$18*EXP(-$E$15*(1-$E$18))),0))","v":{"v":0.1839962414977666,"d":"0.2"}},{"$f":"IF('Verwaltung (ausblenden)'!$D$10=TRUE,(1-EXP(-$E$15*BG23/100*(1+$E$18)))/(1+$E$18),IF('Verwaltung (ausblenden)'!$D$11=TRUE,(1-EXP(-$E$15*(100-BG23)/100*(1-$E$18)))/(1-$E$18*EXP(-$E$15*(1-$E$18))),0))","v":{"v":0.1864084852791681,"d":"0.2"}},{"$f":"IF('Verwaltung (ausblenden)'!$D$10=TRUE,(1-EXP(-$E$15*BH23/100*(1+$E$18)))/(1+$E$18),IF('Verwaltung (ausblenden)'!$D$11=TRUE,(1-EXP(-$E$15*(100-BH23)/100*(1-$E$18)))/(1-$E$18*EXP(-$E$15*(1-$E$18))),0))","v":{"v":0.1887900991895393,"d":"0.2"}},{"$f":"IF('Verwaltung (ausblenden)'!$D$10=TRUE,(1-EXP(-$E$15*BI23/100*(1+$E$18)))/(1+$E$18),IF('Verwaltung (ausblenden)'!$D$11=TRUE,(1-EXP(-$E$15*(100-BI23)/100*(1-$E$18)))/(1-$E$18*EXP(-$E$15*(1-$E$18))),0))","v":{"v":0.19114147215681793,"d":"0.2"}},{"$f":"IF('Verwaltung (ausblenden)'!$D$10=TRUE,(1-EXP(-$E$15*BJ23/100*(1+$E$18)))/(1+$E$18),IF('Verwaltung (ausblenden)'!$D$11=TRUE,(1-EXP(-$E$15*(100-BJ23)/100*(1-$E$18)))/(1-$E$18*EXP(-$E$15*(1-$E$18))),0))","v":{"v":0.19346298817046392,"d":"0.2"}},{"$f":"IF('Verwaltung (ausblenden)'!$D$10=TRUE,(1-EXP(-$E$15*BK23/100*(1+$E$18)))/(1+$E$18),IF('Verwaltung (ausblenden)'!$D$11=TRUE,(1-EXP(-$E$15*(100-BK23)/100*(1-$E$18)))/(1-$E$18*EXP(-$E$15*(1-$E$18))),0))","v":{"v":0.19575502634416642,"d":"0.2"}},{"$f":"IF('Verwaltung (ausblenden)'!$D$10=TRUE,(1-EXP(-$E$15*BL23/100*(1+$E$18)))/(1+$E$18),IF('Verwaltung (ausblenden)'!$D$11=TRUE,(1-EXP(-$E$15*(100-BL23)/100*(1-$E$18)))/(1-$E$18*EXP(-$E$15*(1-$E$18))),0))","v":{"v":0.1980179609777548,"d":"0.2"}},{"$f":"IF('Verwaltung (ausblenden)'!$D$10=TRUE,(1-EXP(-$E$15*BM23/100*(1+$E$18)))/(1+$E$18),IF('Verwaltung (ausblenden)'!$D$11=TRUE,(1-EXP(-$E$15*(100-BM23)/100*(1-$E$18)))/(1-$E$18*EXP(-$E$15*(1-$E$18))),0))","v":{"v":0.20025216161832335,"d":"0.2"}},{"$f":"IF('Verwaltung (ausblenden)'!$D$10=TRUE,(1-EXP(-$E$15*BN23/100*(1+$E$18)))/(1+$E$18),IF('Verwaltung (ausblenden)'!$D$11=TRUE,(1-EXP(-$E$15*(100-BN23)/100*(1-$E$18)))/(1-$E$18*EXP(-$E$15*(1-$E$18))),0))","v":{"v":0.20245799312058002,"d":"0.2"}},{"$f":"IF('Verwaltung (ausblenden)'!$D$10=TRUE,(1-EXP(-$E$15*BO23/100*(1+$E$18)))/(1+$E$18),IF('Verwaltung (ausblenden)'!$D$11=TRUE,(1-EXP(-$E$15*(100-BO23)/100*(1-$E$18)))/(1-$E$18*EXP(-$E$15*(1-$E$18))),0))","v":{"v":0.20463581570642878,"d":"0.2"}},{"$f":"IF('Verwaltung (ausblenden)'!$D$10=TRUE,(1-EXP(-$E$15*BP23/100*(1+$E$18)))/(1+$E$18),IF('Verwaltung (ausblenden)'!$D$11=TRUE,(1-EXP(-$E$15*(100-BP23)/100*(1-$E$18)))/(1-$E$18*EXP(-$E$15*(1-$E$18))),0))","v":{"v":0.2067859850237954,"d":"0.2"}},{"$f":"IF('Verwaltung (ausblenden)'!$D$10=TRUE,(1-EXP(-$E$15*BQ23/100*(1+$E$18)))/(1+$E$18),IF('Verwaltung (ausblenden)'!$D$11=TRUE,(1-EXP(-$E$15*(100-BQ23)/100*(1-$E$18)))/(1-$E$18*EXP(-$E$15*(1-$E$18))),0))","v":{"v":0.20890885220470629,"d":"0.2"}},{"$f":"IF('Verwaltung (ausblenden)'!$D$10=TRUE,(1-EXP(-$E$15*BR23/100*(1+$E$18)))/(1+$E$18),IF('Verwaltung (ausblenden)'!$D$11=TRUE,(1-EXP(-$E$15*(100-BR23)/100*(1-$E$18)))/(1-$E$18*EXP(-$E$15*(1-$E$18))),0))","v":{"v":0.21100476392262993,"d":"0.2"}},{"$f":"IF('Verwaltung (ausblenden)'!$D$10=TRUE,(1-EXP(-$E$15*BS23/100*(1+$E$18)))/(1+$E$18),IF('Verwaltung (ausblenden)'!$D$11=TRUE,(1-EXP(-$E$15*(100-BS23)/100*(1-$E$18)))/(1-$E$18*EXP(-$E$15*(1-$E$18))),0))","v":{"v":0.2130740624490901,"d":"0.2"}},{"$f":"IF('Verwaltung (ausblenden)'!$D$10=TRUE,(1-EXP(-$E$15*BT23/100*(1+$E$18)))/(1+$E$18),IF('Verwaltung (ausblenden)'!$D$11=TRUE,(1-EXP(-$E$15*(100-BT23)/100*(1-$E$18)))/(1-$E$18*EXP(-$E$15*(1-$E$18))),0))","v":{"v":0.2151170857095604,"d":"0.2"}},{"$f":"IF('Verwaltung (ausblenden)'!$D$10=TRUE,(1-EXP(-$E$15*BU23/100*(1+$E$18)))/(1+$E$18),IF('Verwaltung (ausblenden)'!$D$11=TRUE,(1-EXP(-$E$15*(100-BU23)/100*(1-$E$18)))/(1-$E$18*EXP(-$E$15*(1-$E$18))),0))","v":{"v":0.21713416733864888,"d":"0.2"}},{"$f":"IF('Verwaltung (ausblenden)'!$D$10=TRUE,(1-EXP(-$E$15*BV23/100*(1+$E$18)))/(1+$E$18),IF('Verwaltung (ausblenden)'!$D$11=TRUE,(1-EXP(-$E$15*(100-BV23)/100*(1-$E$18)))/(1-$E$18*EXP(-$E$15*(1-$E$18))),0))","v":{"v":0.2191256367345821,"d":"0.2"}},{"$f":"IF('Verwaltung (ausblenden)'!$D$10=TRUE,(1-EXP(-$E$15*BW23/100*(1+$E$18)))/(1+$E$18),IF('Verwaltung (ausblenden)'!$D$11=TRUE,(1-EXP(-$E$15*(100-BW23)/100*(1-$E$18)))/(1-$E$18*EXP(-$E$15*(1-$E$18))),0))","v":{"v":0.2210918191129972,"d":"0.2"}},{"$f":"IF('Verwaltung (ausblenden)'!$D$10=TRUE,(1-EXP(-$E$15*BX23/100*(1+$E$18)))/(1+$E$18),IF('Verwaltung (ausblenden)'!$D$11=TRUE,(1-EXP(-$E$15*(100-BX23)/100*(1-$E$18)))/(1-$E$18*EXP(-$E$15*(1-$E$18))),0))","v":{"v":0.22303303556005105,"d":"0.2"}},{"$f":"IF('Verwaltung (ausblenden)'!$D$10=TRUE,(1-EXP(-$E$15*BY23/100*(1+$E$18)))/(1+$E$18),IF('Verwaltung (ausblenden)'!$D$11=TRUE,(1-EXP(-$E$15*(100-BY23)/100*(1-$E$18)))/(1-$E$18*EXP(-$E$15*(1-$E$18))),0))","v":{"v":0.22494960308485515,"d":"0.2"}},{"$f":"IF('Verwaltung (ausblenden)'!$D$10=TRUE,(1-EXP(-$E$15*BZ23/100*(1+$E$18)))/(1+$E$18),IF('Verwaltung (ausblenden)'!$D$11=TRUE,(1-EXP(-$E$15*(100-BZ23)/100*(1-$E$18)))/(1-$E$18*EXP(-$E$15*(1-$E$18))),0))","v":{"v":0.22684183467124452,"d":"0.2"}},{"$f":"IF('Verwaltung (ausblenden)'!$D$10=TRUE,(1-EXP(-$E$15*CA23/100*(1+$E$18)))/(1+$E$18),IF('Verwaltung (ausblenden)'!$D$11=TRUE,(1-EXP(-$E$15*(100-CA23)/100*(1-$E$18)))/(1-$E$18*EXP(-$E$15*(1-$E$18))),0))","v":{"v":0.22871003932888911,"d":"0.2"}},{"$f":"IF('Verwaltung (ausblenden)'!$D$10=TRUE,(1-EXP(-$E$15*CB23/100*(1+$E$18)))/(1+$E$18),IF('Verwaltung (ausblenden)'!$D$11=TRUE,(1-EXP(-$E$15*(100-CB23)/100*(1-$E$18)))/(1-$E$18*EXP(-$E$15*(1-$E$18))),0))","v":{"v":0.23055452214375685,"d":"0.2"}},{"$f":"IF('Verwaltung (ausblenden)'!$D$10=TRUE,(1-EXP(-$E$15*CC23/100*(1+$E$18)))/(1+$E$18),IF('Verwaltung (ausblenden)'!$D$11=TRUE,(1-EXP(-$E$15*(100-CC23)/100*(1-$E$18)))/(1-$E$18*EXP(-$E$15*(1-$E$18))),0))","v":{"v":0.23237558432793512,"d":"0.2"}},{"$f":"IF('Verwaltung (ausblenden)'!$D$10=TRUE,(1-EXP(-$E$15*CD23/100*(1+$E$18)))/(1+$E$18),IF('Verwaltung (ausblenden)'!$D$11=TRUE,(1-EXP(-$E$15*(100-CD23)/100*(1-$E$18)))/(1-$E$18*EXP(-$E$15*(1-$E$18))),0))","v":{"v":0.23417352326882032,"d":"0.2"}},{"$f":"IF('Verwaltung (ausblenden)'!$D$10=TRUE,(1-EXP(-$E$15*CE23/100*(1+$E$18)))/(1+$E$18),IF('Verwaltung (ausblenden)'!$D$11=TRUE,(1-EXP(-$E$15*(100-CE23)/100*(1-$E$18)))/(1-$E$18*EXP(-$E$15*(1-$E$18))),0))","v":{"v":0.23594863257768228,"d":"0.2"}},{"$f":"IF('Verwaltung (ausblenden)'!$D$10=TRUE,(1-EXP(-$E$15*CF23/100*(1+$E$18)))/(1+$E$18),IF('Verwaltung (ausblenden)'!$D$11=TRUE,(1-EXP(-$E$15*(100-CF23)/100*(1-$E$18)))/(1-$E$18*EXP(-$E$15*(1-$E$18))),0))","v":{"v":0.2377012021376124,"d":"0.2"}},{"$f":"IF('Verwaltung (ausblenden)'!$D$10=TRUE,(1-EXP(-$E$15*CG23/100*(1+$E$18)))/(1+$E$18),IF('Verwaltung (ausblenden)'!$D$11=TRUE,(1-EXP(-$E$15*(100-CG23)/100*(1-$E$18)))/(1-$E$18*EXP(-$E$15*(1-$E$18))),0))","v":{"v":0.23943151815086275,"d":"0.2"}},{"$f":"IF('Verwaltung (ausblenden)'!$D$10=TRUE,(1-EXP(-$E$15*CH23/100*(1+$E$18)))/(1+$E$18),IF('Verwaltung (ausblenden)'!$D$11=TRUE,(1-EXP(-$E$15*(100-CH23)/100*(1-$E$18)))/(1-$E$18*EXP(-$E$15*(1-$E$18))),0))","v":{"v":0.24113986318558425,"d":"0.2"}},{"$f":"IF('Verwaltung (ausblenden)'!$D$10=TRUE,(1-EXP(-$E$15*CI23/100*(1+$E$18)))/(1+$E$18),IF('Verwaltung (ausblenden)'!$D$11=TRUE,(1-EXP(-$E$15*(100-CI23)/100*(1-$E$18)))/(1-$E$18*EXP(-$E$15*(1-$E$18))),0))","v":{"v":0.24282651622197116,"d":"0.2"}},{"$f":"IF('Verwaltung (ausblenden)'!$D$10=TRUE,(1-EXP(-$E$15*CJ23/100*(1+$E$18)))/(1+$E$18),IF('Verwaltung (ausblenden)'!$D$11=TRUE,(1-EXP(-$E$15*(100-CJ23)/100*(1-$E$18)))/(1-$E$18*EXP(-$E$15*(1-$E$18))),0))","v":{"v":0.24449175269781978,"d":"0.2"}},{"$f":"IF('Verwaltung (ausblenden)'!$D$10=TRUE,(1-EXP(-$E$15*CK23/100*(1+$E$18)))/(1+$E$18),IF('Verwaltung (ausblenden)'!$D$11=TRUE,(1-EXP(-$E$15*(100-CK23)/100*(1-$E$18)))/(1-$E$18*EXP(-$E$15*(1-$E$18))),0))","v":{"v":0.24613584455350873,"d":"0.2"}},{"$f":"IF('Verwaltung (ausblenden)'!$D$10=TRUE,(1-EXP(-$E$15*CL23/100*(1+$E$18)))/(1+$E$18),IF('Verwaltung (ausblenden)'!$D$11=TRUE,(1-EXP(-$E$15*(100-CL23)/100*(1-$E$18)))/(1-$E$18*EXP(-$E$15*(1-$E$18))),0))","v":{"v":0.24775906027640796,"d":"0.2"}},{"$f":"IF('Verwaltung (ausblenden)'!$D$10=TRUE,(1-EXP(-$E$15*CM23/100*(1+$E$18)))/(1+$E$18),IF('Verwaltung (ausblenden)'!$D$11=TRUE,(1-EXP(-$E$15*(100-CM23)/100*(1-$E$18)))/(1-$E$18*EXP(-$E$15*(1-$E$18))),0))","v":{"v":0.24936166494472378,"d":"0.2"}},{"$f":"IF('Verwaltung (ausblenden)'!$D$10=TRUE,(1-EXP(-$E$15*CN23/100*(1+$E$18)))/(1+$E$18),IF('Verwaltung (ausblenden)'!$D$11=TRUE,(1-EXP(-$E$15*(100-CN23)/100*(1-$E$18)))/(1-$E$18*EXP(-$E$15*(1-$E$18))),0))","v":{"v":0.2509439202707876,"d":"0.3"}},{"$f":"IF('Verwaltung (ausblenden)'!$D$10=TRUE,(1-EXP(-$E$15*CO23/100*(1+$E$18)))/(1+$E$18),IF('Verwaltung (ausblenden)'!$D$11=TRUE,(1-EXP(-$E$15*(100-CO23)/100*(1-$E$18)))/(1-$E$18*EXP(-$E$15*(1-$E$18))),0))","v":{"v":0.25250608464379437,"d":"0.3"}},{"$f":"IF('Verwaltung (ausblenden)'!$D$10=TRUE,(1-EXP(-$E$15*CP23/100*(1+$E$18)))/(1+$E$18),IF('Verwaltung (ausblenden)'!$D$11=TRUE,(1-EXP(-$E$15*(100-CP23)/100*(1-$E$18)))/(1-$E$18*EXP(-$E$15*(1-$E$18))),0))","v":{"v":0.25404841317199867,"d":"0.3"}},{"$f":"IF('Verwaltung (ausblenden)'!$D$10=TRUE,(1-EXP(-$E$15*CQ23/100*(1+$E$18)))/(1+$E$18),IF('Verwaltung (ausblenden)'!$D$11=TRUE,(1-EXP(-$E$15*(100-CQ23)/100*(1-$E$18)))/(1-$E$18*EXP(-$E$15*(1-$E$18))),0))","v":{"v":0.2555711577243754,"d":"0.3"}},{"$f":"IF('Verwaltung (ausblenden)'!$D$10=TRUE,(1-EXP(-$E$15*CR23/100*(1+$E$18)))/(1+$E$18),IF('Verwaltung (ausblenden)'!$D$11=TRUE,(1-EXP(-$E$15*(100-CR23)/100*(1-$E$18)))/(1-$E$18*EXP(-$E$15*(1-$E$18))),0))","v":{"v":0.25707456697175063,"d":"0.3"}},{"$f":"IF('Verwaltung (ausblenden)'!$D$10=TRUE,(1-EXP(-$E$15*CS23/100*(1+$E$18)))/(1+$E$18),IF('Verwaltung (ausblenden)'!$D$11=TRUE,(1-EXP(-$E$15*(100-CS23)/100*(1-$E$18)))/(1-$E$18*EXP(-$E$15*(1-$E$18))),0))","v":{"v":0.2585588864274107,"d":"0.3"}},{"$f":"IF('Verwaltung (ausblenden)'!$D$10=TRUE,(1-EXP(-$E$15*CT23/100*(1+$E$18)))/(1+$E$18),IF('Verwaltung (ausblenden)'!$D$11=TRUE,(1-EXP(-$E$15*(100-CT23)/100*(1-$E$18)))/(1-$E$18*EXP(-$E$15*(1-$E$18))),0))","v":{"v":0.260024358487196,"d":"0.3"}},{"$f":"IF('Verwaltung (ausblenden)'!$D$10=TRUE,(1-EXP(-$E$15*CU23/100*(1+$E$18)))/(1+$E$18),IF('Verwaltung (ausblenden)'!$D$11=TRUE,(1-EXP(-$E$15*(100-CU23)/100*(1-$E$18)))/(1-$E$18*EXP(-$E$15*(1-$E$18))),0))","v":{"v":0.2614712224690847,"d":"0.3"}},{"$f":"IF('Verwaltung (ausblenden)'!$D$10=TRUE,(1-EXP(-$E$15*CV23/100*(1+$E$18)))/(1+$E$18),IF('Verwaltung (ausblenden)'!$D$11=TRUE,(1-EXP(-$E$15*(100-CV23)/100*(1-$E$18)))/(1-$E$18*EXP(-$E$15*(1-$E$18))),0))","v":{"v":0.26289971465227496,"d":"0.3"}},{"$f":"IF('Verwaltung (ausblenden)'!$D$10=TRUE,(1-EXP(-$E$15*CW23/100*(1+$E$18)))/(1+$E$18),IF('Verwaltung (ausblenden)'!$D$11=TRUE,(1-EXP(-$E$15*(100-CW23)/100*(1-$E$18)))/(1-$E$18*EXP(-$E$15*(1-$E$18))),0))","v":{"v":0.2643100683157698,"d":"0.3"}},{"$f":"IF('Verwaltung (ausblenden)'!$D$10=TRUE,(1-EXP(-$E$15*CX23/100*(1+$E$18)))/(1+$E$18),IF('Verwaltung (ausblenden)'!$D$11=TRUE,(1-EXP(-$E$15*(100-CX23)/100*(1-$E$18)))/(1-$E$18*EXP(-$E$15*(1-$E$18))),0))","v":{"v":0.2657025137764731,"d":"0.3"}},{"$f":"IF('Verwaltung (ausblenden)'!$D$10=TRUE,(1-EXP(-$E$15*CY23/100*(1+$E$18)))/(1+$E$18),IF('Verwaltung (ausblenden)'!$D$11=TRUE,(1-EXP(-$E$15*(100-CY23)/100*(1-$E$18)))/(1-$E$18*EXP(-$E$15*(1-$E$18))),0))","v":{"v":0.267077278426801,"d":"0.3"}},{"$f":"IF('Verwaltung (ausblenden)'!$D$10=TRUE,(1-EXP(-$E$15*CZ23/100*(1+$E$18)))/(1+$E$18),IF('Verwaltung (ausblenden)'!$D$11=TRUE,(1-EXP(-$E$15*(100-CZ23)/100*(1-$E$18)))/(1-$E$18*EXP(-$E$15*(1-$E$18))),0))","v":{"v":0.26843458677181636,"d":"0.3"}},{"$f":"IF('Verwaltung (ausblenden)'!$D$10=TRUE,(1-EXP(-$E$15*DA23/100*(1+$E$18)))/(1+$E$18),IF('Verwaltung (ausblenden)'!$D$11=TRUE,(1-EXP(-$E$15*(100-DA23)/100*(1-$E$18)))/(1-$E$18*EXP(-$E$15*(1-$E$18))),0))","v":{"v":0.26977466046589105,"d":"0.3"}}]
[]
[null,"Temperatur warmes Fluid","ϑ1(x)","[°C]",{"$f":"(Interface!$D$17-Berechnung!E25*(Interface!$D$17-Interface!$D$22))*'Verwaltung (ausblenden)'!$C$17","v":{"v":80,"d":"80.0"}},{"$f":"(Interface!$D$17-Berechnung!F25*(Interface!$D$17-Interface!$D$22))*'Verwaltung (ausblenden)'!$C$17","v":{"v":79.52305393086415,"d":"79.5"}},{"$f":"(Interface!$D$17-Berechnung!G25*(Interface!$D$17-Interface!$D$22))*'Verwaltung (ausblenden)'!$C$17","v":{"v":79.05216396463908,"d":"79.1"}},{"$f":"(Interface!$D$17-Berechnung!H25*(Interface!$D$17-Interface!$D$22))*'Verwaltung (ausblenden)'!$C$17","v":{"v":78.58725320293975,"d":"78.6"}},{"$f":"(Interface!$D$17-Berechnung!I25*(Interface!$D$17-Interface!$D$22))*'Verwaltung (ausblenden)'!$C$17","v":{"v":78.1282457238113,"d":"78.1"}},{"$f":"(Interface!$D$17-Berechnung!J25*(Interface!$D$17-Interface!$D$22))*'Verwaltung (ausblenden)'!$C$17","v":{"v":77.67506656933067,"d":"77.7"}},{"$f":"(Interface!$D$17-Berechnung!K25*(Interface!$D$17-Interface!$D$22))*'Verwaltung (ausblenden)'!$C$17","v":{"v":77.2276417333656,"d":"77.2"}},{"$f":"(Interface!$D$17-Berechnung!L25*(Interface!$D$17-Interface!$D$22))*'Verwaltung (ausblenden)'!$C$17","v":{"v":76.78589814948916,"d":"76.8"}},{"$f":"(Interface!$D$17-Berechnung!M25*(Interface!$D$17-Interface!$D$22))*'Verwaltung (ausblenden)'!$C$17","v":{"v":76.34976367904765,"d":"76.3"}},{"$f":"(Interface!$D$17-Berechnung!N25*(Interface!$D$17-Interface!$D$22))*'Verwaltung (ausblenden)'!$C$17","v":{"v":75.9191670993801,"d":"75.9"}},{"$f":"(Interface!$D$17-Berechnung!O25*(Interface!$D$17-Interface!$D$22))*'Verwaltung (ausblenden)'!$C$17","v":{"v":75.49403809218718,"d":"75.5"}},{"$f":"(Interface!$D$17-Berechnung!P25*(Interface!$D$17-Interface!$D$22))*'Verwaltung (ausblenden)'!$C$17","v":{"v":75.07430723204804,"d":"75.1"}},{"$f":"(Interface!$D$17-Berechnung!Q25*(Interface!$D$17-Interface!$D$22))*'Verwaltung (ausblenden)'!$C$17","v":{"v":74.65990597508276,"d":"74.7"}},{"$f":"(Interface!$D$17-Berechnung!R25*(Interface!$D$17-Interface!$D$22))*'Verwaltung (ausblenden)'!$C$17","v":{"v":74.25076664775891,"d":"74.3"}},{"$f":"(Interface!$D$17-Berechnung!S25*(Interface!$D$17-Interface!$D$22))*'Verwaltung (ausblenden)'!$C$17","v":{"v":73.84682243584005,"d":"73.8"}},{"$f":"(Interface!$D$17-Berechnung!T25*(Interface!$D$17-Interface!$D$22))*'Verwaltung (ausblenden)'!$C$17","v":{"v":73.44800737347478,"d":"73.4"}},{"$f":"(Interface!$D$17-Berechnung!U25*(Interface!$D$17-Interface!$D$22))*'Verwaltung (ausblenden)'!$C$17","v":{"v":73.05425633242417,"d":"73.1"}},{"$f":"(Interface!$D$17-Berechnung!V25*(Interface!$D$17-Interface!$D$22))*'Verwaltung (ausblenden)'!$C$17","v":{"v":72.66550501142609,"d":"72.7"}},{"$f":"(Interface!$D$17-Berechnung!W25*(Interface!$D$17-Interface!$D$22))*'Verwaltung (ausblenden)'!$C$17","v":{"v":72.28168992569447,"d":"72.3"}},{"$f":"(Interface!$D$17-Berechnung!X25*(Interface!$D$17-Interface!$D$22))*'Verwaltung (ausblenden)'!$C$17","v":{"v":71.90274839655198,"d":"71.9"}},{"$f":"(Interface!$D$17-Berechnung!Y25*(Interface!$D$17-Interface!$D$22))*'Verwaltung (ausblenden)'!$C$17","v":{"v":71.52861854119436,"d":"71.5"}},{"$f":"(Interface!$D$17-Berechnung!Z25*(Interface!$D$17-Interface!$D$22))*'Verwaltung (ausblenden)'!$C$17","v":{"v":71.15923926258465,"d":"71.2"}},{"$f":"(Interface!$D$17-Berechnung!AA25*(Interface!$D$17-Interface!$D$22))*'Verwaltung (ausblenden)'!$C$17","v":{"v":70.79455023947577,"d":"70.8"}},{"$f":"(Interface!$D$17-Berechnung!AB25*(Interface!$D$17-Interface!$D$22))*'Verwaltung (ausblenden)'!$C$17","v":{"v":70.43449191655985,"d":"70.4"}},{"$f":"(Interface!$D$17-Berechnung!AC25*(Interface!$D$17-Interface!$D$22))*'Verwaltung (ausblenden)'!$C$17","v":{"v":70.07900549474255,"d":"70.1"}},{"$f":"(Interface!$D$17-Berechnung!AD25*(Interface!$D$17-Interface!$D$22))*'Verwaltung (ausblenden)'!$C$17","v":{"v":69.7280329215409,"d":"69.7"}},{"$f":"(Interface!$D$17-Berechnung!AE25*(Interface!$D$17-Interface!$D$22))*'Verwaltung (ausblenden)'!$C$17","v":{"v":69.3815168816031,"d":"69.4"}},{"$f":"(Interface!$D$17-Berechnung!AF25*(Interface!$D$17-Interface!$D$22))*'Verwaltung (ausblenden)'!$C$17","v":{"v":69.0394007873487,"d":"69.0"}},{"$f":"(Interface!$D$17-Berechnung!AG25*(Interface!$D$17-Interface!$D$22))*'Verwaltung (ausblenden)'!$C$17","v":{"v":68.7016287697275,"d":"68.7"}},{"$f":"(Interface!$D$17-Berechnung!AH25*(Interface!$D$17-Interface!$D$22))*'Verwaltung (ausblenden)'!$C$17","v":{"v":68.36814566909604,"d":"68.4"}},{"$f":"(Interface!$D$17-Berechnung!AI25*(Interface!$D$17-Interface!$D$22))*'Verwaltung (ausblenden)'!$C$17","v":{"v":68.03889702620963,"d":"68.0"}},{"$f":"(Interface!$D$17-Berechnung!AJ25*(Interface!$D$17-Interface!$D$22))*'Verwaltung (ausblenden)'!$C$17","v":{"v":67.71382907332904,"d":"67.7"}},{"$f":"(Interface!$D$17-Berechnung!AK25*(Interface!$D$17-Interface!$D$22))*'Verwaltung (ausblenden)'!$C$17","v":{"v":67.39288872543996,"d":"67.4"}},{"$f":"(Interface!$D$17-Berechnung!AL25*(Interface!$D$17-Interface!$D$22))*'Verwaltung (ausblenden)'!$C$17","v":{"v":67.07602357158393,"d":"67.1"}},{"$f":"(Interface!$D$17-Berechnung!AM25*(Interface!$D$17-Interface!$D$22))*'Verwaltung (ausblenden)'!$C$17","v":{"v":66.76318186629952,"d":"66.8"}},{"$f":"(Interface!$D$17-Berechnung!AN25*(Interface!$D$17-Interface!$D$22))*'Verwaltung (ausblenden)'!$C$17","v":{"v":66.45431252117191,"d":"66.5"}},{"$f":"(Interface!$D$17-Berechnung!AO25*(Interface!$D$17-Interface!$D$22))*'Verwaltung (ausblenden)'!$C$17","v":{"v":66.14936509649009,"d":"66.1"}},{"$f":"(Interface!$D$17-Berechnung!AP25*(Interface!$D$17-Interface!$D$22))*'Verwaltung (ausblenden)'!$C$17","v":{"v":65.84828979300971,"d":"65.8"}},{"$f":"(Interface!$D$17-Berechnung!AQ25*(Interface!$D$17-Interface!$D$22))*'Verwaltung (ausblenden)'!$C$17","v":{"v":65.55103744382075,"d":"65.6"}},{"$f":"(Interface!$D$17-Berechnung!AR25*(Interface!$D$17-Interface!$D$22))*'Verwaltung (ausblenden)'!$C$17","v":{"v":65.25755950631824,"d":"65.3"}},{"$f":"(Interface!$D$17-Berechnung!AS25*(Interface!$D$17-Interface!$D$22))*'Verwaltung (ausblenden)'!$C$17","v":{"v":64.96780805427515,"d":"65.0"}},{"$f":"(Interface!$D$17-Berechnung!AT25*(Interface!$D$17-Interface!$D$22))*'Verwaltung (ausblenden)'!$C$17","v":{"v":64.68173577001575,"d":"64.7"}},{"$f":"(Interface!$D$17-Berechnung!AU25*(Interface!$D$17-Interface!$D$22))*'Verwaltung (ausblenden)'!$C$17","v":{"v":64.39929593668845,"d":"64.4"}},{"$f":"(Interface!$D$17-Berechnung!AV25*(Interface!$D$17-Interface!$D$22))*'Verwaltung (ausblenden)'!$C$17","v":{"v":64.12044243063676,"d":"64.1"}},{"$f":"(Interface!$D$17-Berechnung!AW25*(Interface!$D$17-Interface!$D$22))*'Verwaltung (ausblenden)'!$C$17","v":{"v":63.845129713867045,"d":"63.8"}},{"$f":"(Interface!$D$17-Berechnung!AX25*(Interface!$D$17-Interface!$D$22))*'Verwaltung (ausblenden)'!$C$17","v":{"v":63.57331282661204,"d":"63.6"}},{"$f":"(Interface!$D$17-Berechnung!AY25*(Interface!$D$17-Interface!$D$22))*'Verwaltung (ausblenden)'!$C$17","v":{"v":63.30494737998863,"d":"63.3"}},{"$f":"(Interface!$D$17-Berechnung!AZ25*(Interface!$D$17-Interface!$D$22))*'Verwaltung (ausblenden)'!$C$17","v":{"v":63.03998954874907,"d":"63.0"}},{"$f":"(Interface!$D$17-Berechnung!BA25*(Interface!$D$17-Interface!$D$22))*'Verwaltung (ausblenden)'!$C$17","v":{"v":62.778396064124024,"d":"62.8"}},{"$f":"(Interface!$D$17-Berechnung!BB25*(Interface!$D$17-Interface!$D$22))*'Verwaltung (ausblenden)'!$C$17","v":{"v":62.52012420675665,"d":"62.5"}},{"$f":"(Interface!$D$17-Berechnung!BC25*(Interface!$D$17-Interface!$D$22))*'Verwaltung (ausblenden)'!$C$17","v":{"v":62.265131799726305,"d":"62.3"}},{"$f":"(Interface!$D$17-Berechnung!BD25*(Interface!$D$17-Interface!$D$22))*'Verwaltung (ausblenden)'!$C$17","v":{"v":62.0133772016609,"d":"62.0"}},{"$f":"(Interface!$D$17-Berechnung!BE25*(Interface!$D$17-Interface!$D$22))*'Verwaltung (ausblenden)'!$C$17","v":{"v":61.764819299936676,"d":"61.8"}},{"$f":"(Interface!$D$17-Berechnung!BF25*(Interface!$D$17-Interface!$D$22))*'Verwaltung (ausblenden)'!$C$17","v":{"v":61.51941750396432,"d":"61.5"}},{"$f":"(Interface!$D$17-Berechnung!BG25*(Interface!$D$17-Interface!$D$22))*'Verwaltung (ausblenden)'!$C$17","v":{"v":61.27713173856036,"d":"61.3"}},{"$f":"(Interface!$D$17-Berechnung!BH25*(Interface!$D$17-Interface!$D$22))*'Verwaltung (ausblenden)'!$C$17","v":{"v":61.03792243740267,"d":"61.0"}},{"$f":"(Interface!$D$17-Berechnung!BI25*(Interface!$D$17-Interface!$D$22))*'Verwaltung (ausblenden)'!$C$17","v":{"v":60.8017505365692,"d":"60.8"}},{"$f":"(Interface!$D$17-Berechnung!BJ25*(Interface!$D$17-Interface!$D$22))*'Verwaltung (ausblenden)'!$C$17","v":{"v":60.56857746815861,"d":"60.6"}},{"$f":"(Interface!$D$17-Berechnung!BK25*(Interface!$D$17-Interface!$D$22))*'Verwaltung (ausblenden)'!$C$17","v":{"v":60.338365153991916,"d":"60.3"}},{"$f":"(Interface!$D$17-Berechnung!BL25*(Interface!$D$17-Interface!$D$22))*'Verwaltung (ausblenden)'!$C$17","v":{"v":60.11107599939431,"d":"60.1"}},{"$f":"(Interface!$D$17-Berechnung!BM25*(Interface!$D$17-Interface!$D$22))*'Verwaltung (ausblenden)'!$C$17","v":{"v":59.88667288705561,"d":"59.9"}},{"$f":"(Interface!$D$17-Berechnung!BN25*(Interface!$D$17-Interface!$D$22))*'Verwaltung (ausblenden)'!$C$17","v":{"v":59.66511917096894,"d":"59.7"}},{"$f":"(Interface!$D$17-Berechnung!BO25*(Interface!$D$17-Interface!$D$22))*'Verwaltung (ausblenden)'!$C$17","v":{"v":59.44637867044629,"d":"59.4"}},{"$f":"(Interface!$D$17-Berechnung!BP25*(Interface!$D$17-Interface!$D$22))*'Verwaltung (ausblenden)'!$C$17","v":{"v":59.230415664209985,"d":"59.2"}},{"$f":"(Interface!$D$17-Berechnung!BQ25*(Interface!$D$17-Interface!$D$22))*'Verwaltung (ausblenden)'!$C$17","v":{"v":59.017194884559295,"d":"59.0"}},{"$f":"(Interface!$D$17-Berechnung!BR25*(Interface!$D$17-Interface!$D$22))*'Verwaltung (ausblenden)'!$C$17","v":{"v":58.806681511611046,"d":"58.8"}},{"$f":"(Interface!$D$17-Berechnung!BS25*(Interface!$D$17-Interface!$D$22))*'Verwaltung (ausblenden)'!$C$17","v":{"v":58.598841167613394,"d":"58.6"}},{"$f":"(Interface!$D$17-Berechnung!BT25*(Interface!$D$17-Interface!$D$22))*'Verwaltung (ausblenden)'!$C$17","v":{"v":58.39363991133175,"d":"58.4"}},{"$f":"(Interface!$D$17-Berechnung!BU25*(Interface!$D$17-Interface!$D$22))*'Verwaltung (ausblenden)'!$C$17","v":{"v":58.1910442325061,"d":"58.2"}},{"$f":"(Interface!$D$17-Berechnung!BV25*(Interface!$D$17-Interface!$D$22))*'Verwaltung (ausblenden)'!$C$17","v":{"v":57.99102104637858,"d":"58.0"}},{"$f":"(Interface!$D$17-Berechnung!BW25*(Interface!$D$17-Interface!$D$22))*'Verwaltung (ausblenden)'!$C$17","v":{"v":57.79353768829057,"d":"57.8"}},{"$f":"(Interface!$D$17-Berechnung!BX25*(Interface!$D$17-Interface!$D$22))*'Verwaltung (ausblenden)'!$C$17","v":{"v":57.598561908348465,"d":"57.6"}},{"$f":"(Interface!$D$17-Berechnung!BY25*(Interface!$D$17-Interface!$D$22))*'Verwaltung (ausblenden)'!$C$17","v":{"v":57.406061866157145,"d":"57.4"}},{"$f":"(Interface!$D$17-Berechnung!BZ25*(Interface!$D$17-Interface!$D$22))*'Verwaltung (ausblenden)'!$C$17","v":{"v":57.2160061256202,"d":"57.2"}},{"$f":"(Interface!$D$17-Berechnung!CA25*(Interface!$D$17-Interface!$D$22))*'Verwaltung (ausblenden)'!$C$17","v":{"v":57.02836364980638,"d":"57.0"}},{"$f":"(Interface!$D$17-Berechnung!CB25*(Interface!$D$17-Interface!$D$22))*'Verwaltung (ausblenden)'!$C$17","v":{"v":56.84310379588106,"d":"56.8"}},{"$f":"(Interface!$D$17-Berechnung!CC25*(Interface!$D$17-Interface!$D$22))*'Verwaltung (ausblenden)'!$C$17","v":{"v":56.660196310102194,"d":"56.7"}},{"$f":"(Interface!$D$17-Berechnung!CD25*(Interface!$D$17-Interface!$D$22))*'Verwaltung (ausblenden)'!$C$17","v":{"v":56.47961132287969,"d":"56.5"}},{"$f":"(Interface!$D$17-Berechnung!CE25*(Interface!$D$17-Interface!$D$22))*'Verwaltung (ausblenden)'!$C$17","v":{"v":56.30131934389759,"d":"56.3"}},{"$f":"(Interface!$D$17-Berechnung!CF25*(Interface!$D$17-Interface!$D$22))*'Verwaltung (ausblenden)'!$C$17","v":{"v":56.125291257298215,"d":"56.1"}},{"$f":"(Interface!$D$17-Berechnung!CG25*(Interface!$D$17-Interface!$D$22))*'Verwaltung (ausblenden)'!$C$17","v":{"v":55.95149831692734,"d":"56.0"}},{"$f":"(Interface!$D$17-Berechnung!CH25*(Interface!$D$17-Interface!$D$22))*'Verwaltung (ausblenden)'!$C$17","v":{"v":55.77991214163991,"d":"55.8"}},{"$f":"(Interface!$D$17-Berechnung!CI25*(Interface!$D$17-Interface!$D$22))*'Verwaltung (ausblenden)'!$C$17","v":{"v":55.61050471066522,"d":"55.6"}},{"$f":"(Interface!$D$17-Berechnung!CJ25*(Interface!$D$17-Interface!$D$22))*'Verwaltung (ausblenden)'!$C$17","v":{"v":55.44324835903099,"d":"55.4"}},{"$f":"(Interface!$D$17-Berechnung!CK25*(Interface!$D$17-Interface!$D$22))*'Verwaltung (ausblenden)'!$C$17","v":{"v":55.278115773045585,"d":"55.3"}},{"$f":"(Interface!$D$17-Berechnung!CL25*(Interface!$D$17-Interface!$D$22))*'Verwaltung (ausblenden)'!$C$17","v":{"v":55.11507998583758,"d":"55.1"}},{"$f":"(Interface!$D$17-Berechnung!CM25*(Interface!$D$17-Interface!$D$22))*'Verwaltung (ausblenden)'!$C$17","v":{"v":54.95411437295194,"d":"55.0"}},{"$f":"(Interface!$D$17-Berechnung!CN25*(Interface!$D$17-Interface!$D$22))*'Verwaltung (ausblenden)'!$C$17","v":{"v":54.79519264800209,"d":"54.8"}},{"$f":"(Interface!$D$17-Berechnung!CO25*(Interface!$D$17-Interface!$D$22))*'Verwaltung (ausblenden)'!$C$17","v":{"v":54.638288858377294,"d":"54.6"}},{"$f":"(Interface!$D$17-Berechnung!CP25*(Interface!$D$17-Interface!$D$22))*'Verwaltung (ausblenden)'!$C$17","v":{"v":54.48337738100446,"d":"54.5"}},{"$f":"(Interface!$D$17-Berechnung!CQ25*(Interface!$D$17-Interface!$D$22))*'Verwaltung (ausblenden)'!$C$17","v":{"v":54.33043291816374,"d":"54.3"}},{"$f":"(Interface!$D$17-Berechnung!CR25*(Interface!$D$17-Interface!$D$22))*'Verwaltung (ausblenden)'!$C$17","v":{"v":54.17943049335737,"d":"54.2"}},{"$f":"(Interface!$D$17-Berechnung!CS25*(Interface!$D$17-Interface!$D$22))*'Verwaltung (ausblenden)'!$C$17","v":{"v":54.03034544723087,"d":"54.0"}},{"$f":"(Interface!$D$17-Berechnung!CT25*(Interface!$D$17-Interface!$D$22))*'Verwaltung (ausblenden)'!$C$17","v":{"v":53.88315343354604,"d":"53.9"}},{"$f":"(Interface!$D$17-Berechnung!CU25*(Interface!$D$17-Interface!$D$22))*'Verwaltung (ausblenden)'!$C$17","v":{"v":53.73783041520513,"d":"53.7"}},{"$f":"(Interface!$D$17-Berechnung!CV25*(Interface!$D$17-Interface!$D$22))*'Verwaltung (ausblenden)'!$C$17","v":{"v":53.594352660325505,"d":"53.6"}},{"$f":"(Interface!$D$17-Berechnung!CW25*(Interface!$D$17-Interface!$D$22))*'Verwaltung (ausblenden)'!$C$17","v":{"v":53.45269673836408,"d":"53.5"}},{"$f":"(Interface!$D$17-Berechnung!CX25*(Interface!$D$17-Interface!$D$22))*'Verwaltung (ausblenden)'!$C$17","v":{"v":53.31283951629104,"d":"53.3"}},{"$f":"(Interface!$D$17-Berechnung!CY25*(Interface!$D$17-Interface!$D$22))*'Verwaltung (ausblenden)'!$C$17","v":{"v":53.17475815481211,"d":"53.2"}},{"$f":"(Interface!$D$17-Berechnung!CZ25*(Interface!$D$17-Interface!$D$22))*'Verwaltung (ausblenden)'!$C$17","v":{"v":53.03843010463876,"d":"53.0"}},{"$f":"(Interface!$D$17-Berechnung!DA25*(Interface!$D$17-Interface!$D$22))*'Verwaltung (ausblenden)'!$C$17","v":{"v":52.903833102805905,"d":"52.9"}}]
[null,"Temperatur kaltes Fluid","ϑ2(x)","[°C]",{"$f":"(Interface!$D$22+(Interface!$D$17-Interface!$D$22)*Berechnung!E26)*'Verwaltung (ausblenden)'!$C$17","v":{"v":20,"d":"20.0"}},{"$f":"(Interface!$D$22+(Interface!$D$17-Interface!$D$22)*Berechnung!F26)*'Verwaltung (ausblenden)'!$C$17","v":{"v":20.284914019794414,"d":"20.3"}},{"$f":"(Interface!$D$22+(Interface!$D$17-Interface!$D$22)*Berechnung!G26)*'Verwaltung (ausblenden)'!$C$17","v":{"v":20.56621029591453,"d":"20.6"}},{"$f":"(Interface!$D$22+(Interface!$D$17-Interface!$D$22)*Berechnung!H26)*'Verwaltung (ausblenden)'!$C$17","v":{"v":20.843934765268965,"d":"20.8"}},{"$f":"(Interface!$D$22+(Interface!$D$17-Interface!$D$22)*Berechnung!I26)*'Verwaltung (ausblenden)'!$C$17","v":{"v":21.118132781474728,"d":"21.1"}},{"$f":"(Interface!$D$22+(Interface!$D$17-Interface!$D$22)*Berechnung!J26)*'Verwaltung (ausblenden)'!$C$17","v":{"v":21.38884912226364,"d":"21.4"}},{"$f":"(Interface!$D$22+(Interface!$D$17-Interface!$D$22)*Berechnung!K26)*'Verwaltung (ausblenden)'!$C$17","v":{"v":21.656127996794744,"d":"21.7"}},{"$f":"(Interface!$D$22+(Interface!$D$17-Interface!$D$22)*Berechnung!L26)*'Verwaltung (ausblenden)'!$C$17","v":{"v":21.92001305287386,"d":"21.9"}},{"$f":"(Interface!$D$22+(Interface!$D$17-Interface!$D$22)*Berechnung!M26)*'Verwaltung (ausblenden)'!$C$17","v":{"v":22.180547384081446,"d":"22.2"}},{"$f":"(Interface!$D$22+(Interface!$D$17-Interface!$D$22)*Berechnung!N26)*'Verwaltung (ausblenden)'!$C$17","v":{"v":22.437773536809978,"d":"22.4"}},{"$f":"(Interface!$D$22+(Interface!$D$17-Interface!$D$22)*Berechnung!O26)*'Verwaltung (ausblenden)'!$C$17","v":{"v":22.691733517211958,"d":"22.7"}},{"$f":"(Interface!$D$22+(Interface!$D$17-Interface!$D$22)*Berechnung!P26)*'Verwaltung (ausblenden)'!$C$17","v":{"v":22.942468798059714,"d":"22.9"}},{"$f":"(Interface!$D$22+(Interface!$D$17-Interface!$D$22)*Berechnung!Q26)*'Verwaltung (ausblenden)'!$C$17","v":{"v":23.19002032551806,"d":"23.2"}},{"$f":"(Interface!$D$22+(Interface!$D$17-Interface!$D$22)*Berechnung!R26)*'Verwaltung (ausblenden)'!$C$17","v":{"v":23.434428525830995,"d":"23.4"}},{"$f":"(Interface!$D$22+(Interface!$D$17-Interface!$D$22)*Berechnung!S26)*'Verwaltung (ausblenden)'!$C$17","v":{"v":23.67573331192351,"d":"23.7"}},{"$f":"(Interface!$D$22+(Interface!$D$17-Interface!$D$22)*Berechnung!T26)*'Verwaltung (ausblenden)'!$C$17","v":{"v":23.913974089919485,"d":"23.9"}},{"$f":"(Interface!$D$22+(Interface!$D$17-Interface!$D$22)*Berechnung!U26)*'Verwaltung (ausblenden)'!$C$17","v":{"v":24.149189765576956,"d":"24.1"}},{"$f":"(Interface!$D$22+(Interface!$D$17-Interface!$D$22)*Berechnung!V26)*'Verwaltung (ausblenden)'!$C$17","v":{"v":24.381418750641522,"d":"24.4"}},{"$f":"(Interface!$D$22+(Interface!$D$17-Interface!$D$22)*Berechnung!W26)*'Verwaltung (ausblenden)'!$C$17","v":{"v":24.61069896911919,"d":"24.6"}},{"$f":"(Interface!$D$22+(Interface!$D$17-Interface!$D$22)*Berechnung!X26)*'Verwaltung (ausblenden)'!$C$17","v":{"v":24.837067863469542,"d":"24.8"}},{"$f":"(Interface!$D$22+(Interface!$D$17-Interface!$D$22)*Berechnung!Y26)*'Verwaltung (ausblenden)'!$C$17","v":{"v":25.060562400720215,"d":"25.1"}},{"$f":"(Interface!$D$22+(Interface!$D$17-Interface!$D$22)*Berechnung!Z26)*'Verwaltung (ausblenden)'!$C$17","v":{"v":25.2812190785038,"d":"25.3"}},{"$f":"(Interface!$D$22+(Interface!$D$17-Interface!$D$22)*Berechnung!AA26)*'Verwaltung (ausblenden)'!$C$17","v":{"v":25.49907393101806,"d":"25.5"}},{"$f":"(Interface!$D$22+(Interface!$D$17-Interface!$D$22)*Berechnung!AB26)*'Verwaltung (ausblenden)'!$C$17","v":{"v":25.714162534910486,"d":"25.7"}},{"$f":"(Interface!$D$22+(Interface!$D$17-Interface!$D$22)*Berechnung!AC26)*'Verwaltung (ausblenden)'!$C$17","v":{"v":25.926520015088084,"d":"25.9"}},{"$f":"(Interface!$D$22+(Interface!$D$17-Interface!$D$22)*Berechnung!AD26)*'Verwaltung (ausblenden)'!$C$17","v":{"v":26.136181050453466,"d":"26.1"}},{"$f":"(Interface!$D$22+(Interface!$D$17-Interface!$D$22)*Berechnung!AE26)*'Verwaltung (ausblenden)'!$C$17","v":{"v":26.343179879568034,"d":"26.3"}},{"$f":"(Interface!$D$22+(Interface!$D$17-Interface!$D$22)*Berechnung!AF26)*'Verwaltung (ausblenden)'!$C$17","v":{"v":26.54755030624331,"d":"26.5"}},{"$f":"(Interface!$D$22+(Interface!$D$17-Interface!$D$22)*Berechnung!AG26)*'Verwaltung (ausblenden)'!$C$17","v":{"v":26.749325705061228,"d":"26.7"}},{"$f":"(Interface!$D$22+(Interface!$D$17-Interface!$D$22)*Berechnung!AH26)*'Verwaltung (ausblenden)'!$C$17","v":{"v":26.948539026824353,"d":"26.9"}},{"$f":"(Interface!$D$22+(Interface!$D$17-Interface!$D$22)*Berechnung!AI26)*'Verwaltung (ausblenden)'!$C$17","v":{"v":27.145222803936903,"d":"27.1"}},{"$f":"(Interface!$D$22+(Interface!$D$17-Interface!$D$22)*Berechnung!AJ26)*'Verwaltung (ausblenden)'!$C$17","v":{"v":27.33940915571742,"d":"27.3"}},{"$f":"(Interface!$D$22+(Interface!$D$17-Interface!$D$22)*Berechnung!AK26)*'Verwaltung (ausblenden)'!$C$17","v":{"v":27.531129793643995,"d":"27.5"}},{"$f":"(Interface!$D$22+(Interface!$D$17-Interface!$D$22)*Berechnung!AL26)*'Verwaltung (ausblenden)'!$C$17","v":{"v":27.72041602653289,"d":"27.7"}},{"$f":"(Interface!$D$22+(Interface!$D$17-Interface!$D$22)*Berechnung!AM26)*'Verwaltung (ausblenden)'!$C$17","v":{"v":27.907298765651422,"d":"27.9"}},{"$f":"(Interface!$D$22+(Interface!$D$17-Interface!$D$22)*Berechnung!AN26)*'Verwaltung (ausblenden)'!$C$17","v":{"v":28.09180852976588,"d":"28.1"}},{"$f":"(Interface!$D$22+(Interface!$D$17-Interface!$D$22)*Berechnung!AO26)*'Verwaltung (ausblenden)'!$C$17","v":{"v":28.27397545012539,"d":"28.3"}},{"$f":"(Interface!$D$22+(Interface!$D$17-Interface!$D$22)*Berechnung!AP26)*'Verwaltung (ausblenden)'!$C$17","v":{"v":28.45382927538249,"d":"28.5"}},{"$f":"(Interface!$D$22+(Interface!$D$17-Interface!$D$22)*Berechnung!AQ26)*'Verwaltung (ausblenden)'!$C$17","v":{"v":28.631399376451164,"d":"28.6"}},{"$f":"(Interface!$D$22+(Interface!$D$17-Interface!$D$22)*Berechnung!AR26)*'Verwaltung (ausblenden)'!$C$17","v":{"v":28.806714751303318,"d":"28.8"}},{"$f":"(Interface!$D$22+(Interface!$D$17-Interface!$D$22)*Berechnung!AS26)*'Verwaltung (ausblenden)'!$C$17","v":{"v":28.979804029704205,"d":"29.0"}},{"$f":"(Interface!$D$22+(Interface!$D$17-Interface!$D$22)*Berechnung!AT26)*'Verwaltung (ausblenden)'!$C$17","v":{"v":29.150695477887844,"d":"29.2"}},{"$f":"(Interface!$D$22+(Interface!$D$17-Interface!$D$22)*Berechnung!AU26)*'Verwaltung (ausblenden)'!$C$17","v":{"v":29.319417003172966,"d":"29.3"}},{"$f":"(Interface!$D$22+(Interface!$D$17-Interface!$D$22)*Berechnung!AV26)*'Verwaltung (ausblenden)'!$C$17","v":{"v":29.485996158520457,"d":"29.5"}},{"$f":"(Interface!$D$22+(Interface!$D$17-Interface!$D$22)*Berechnung!AW26)*'Verwaltung (ausblenden)'!$C$17","v":{"v":29.65046014703283,"d":"29.7"}},{"$f":"(Interface!$D$22+(Interface!$D$17-Interface!$D$22)*Berechnung!AX26)*'Verwaltung (ausblenden)'!$C$17","v":{"v":29.812835826396636,"d":"29.8"}},{"$f":"(Interface!$D$22+(Interface!$D$17-Interface!$D$22)*Berechnung!AY26)*'Verwaltung (ausblenden)'!$C$17","v":{"v":29.973149713268437,"d":"30.0"}},{"$f":"(Interface!$D$22+(Interface!$D$17-Interface!$D$22)*Berechnung!AZ26)*'Verwaltung (ausblenden)'!$C$17","v":{"v":30.131427987605093,"d":"30.1"}},{"$f":"(Interface!$D$22+(Interface!$D$17-Interface!$D$22)*Berechnung!BA26)*'Verwaltung (ausblenden)'!$C$17","v":{"v":30.287696496939052,"d":"30.3"}},{"$f":"(Interface!$D$22+(Interface!$D$17-Interface!$D$22)*Berechnung!BB26)*'Verwaltung (ausblenden)'!$C$17","v":{"v":30.441980760599378,"d":"30.4"}},{"$f":"(Interface!$D$22+(Interface!$D$17-Interface!$D$22)*Berechnung!BC26)*'Verwaltung (ausblenden)'!$C$17","v":{"v":30.594305973879152,"d":"30.6"}},{"$f":"(Interface!$D$22+(Interface!$D$17-Interface!$D$22)*Berechnung!BD26)*'Verwaltung (ausblenden)'!$C$17","v":{"v":30.74469701215,"d":"30.7"}},{"$f":"(Interface!$D$22+(Interface!$D$17-Interface!$D$22)*Berechnung!BE26)*'Verwaltung (ausblenden)'!$C$17","v":{"v":30.893178434924323,"d":"30.9"}},{"$f":"(Interface!$D$22+(Interface!$D$17-Interface!$D$22)*Berechnung!BF26)*'Verwaltung (ausblenden)'!$C$17","v":{"v":31.039774489865998,"d":"31.0"}},{"$f":"(Interface!$D$22+(Interface!$D$17-Interface!$D$22)*Berechnung!BG26)*'Verwaltung (ausblenden)'!$C$17","v":{"v":31.184509116750085,"d":"31.2"}},{"$f":"(Interface!$D$22+(Interface!$D$17-Interface!$D$22)*Berechnung!BH26)*'Verwaltung (ausblenden)'!$C$17","v":{"v":31.327405951372356,"d":"31.3"}},{"$f":"(Interface!$D$22+(Interface!$D$17-Interface!$D$22)*Berechnung!BI26)*'Verwaltung (ausblenden)'!$C$17","v":{"v":31.468488329409077,"d":"31.5"}},{"$f":"(Interface!$D$22+(Interface!$D$17-Interface!$D$22)*Berechnung!BJ26)*'Verwaltung (ausblenden)'!$C$17","v":{"v":31.607779290227835,"d":"31.6"}},{"$f":"(Interface!$D$22+(Interface!$D$17-Interface!$D$22)*Berechnung!BK26)*'Verwaltung (ausblenden)'!$C$17","v":{"v":31.745301580649986,"d":"31.7"}},{"$f":"(Interface!$D$22+(Interface!$D$17-Interface!$D$22)*Berechnung!BL26)*'Verwaltung (ausblenden)'!$C$17","v":{"v":31.881077658665287,"d":"31.9"}},{"$f":"(Interface!$D$22+(Interface!$D$17-Interface!$D$22)*Berechnung!BM26)*'Verwaltung (ausblenden)'!$C$17","v":{"v":32.0151296970994,"d":"32.0"}},{"$f":"(Interface!$D$22+(Interface!$D$17-Interface!$D$22)*Berechnung!BN26)*'Verwaltung (ausblenden)'!$C$17","v":{"v":32.1474795872348,"d":"32.1"}},{"$f":"(Interface!$D$22+(Interface!$D$17-Interface!$D$22)*Berechnung!BO26)*'Verwaltung (ausblenden)'!$C$17","v":{"v":32.27814894238573,"d":"32.3"}},{"$f":"(Interface!$D$22+(Interface!$D$17-Interface!$D$22)*Berechnung!BP26)*'Verwaltung (ausblenden)'!$C$17","v":{"v":32.40715910142772,"d":"32.4"}},{"$f":"(Interface!$D$22+(Interface!$D$17-Interface!$D$22)*Berechnung!BQ26)*'Verwaltung (ausblenden)'!$C$17","v":{"v":32.534531132282375,"d":"32.5"}},{"$f":"(Interface!$D$22+(Interface!$D$17-Interface!$D$22)*Berechnung!BR26)*'Verwaltung (ausblenden)'!$C$17","v":{"v":32.6602858353578,"d":"32.7"}},{"$f":"(Interface!$D$22+(Interface!$D$17-Interface!$D$22)*Berechnung!BS26)*'Verwaltung (ausblenden)'!$C$17","v":{"v":32.784443746945406,"d":"32.8"}},{"$f":"(Interface!$D$22+(Interface!$D$17-Interface!$D$22)*Berechnung!BT26)*'Verwaltung (ausblenden)'!$C$17","v":{"v":32.90702514257362,"d":"32.9"}},{"$f":"(Interface!$D$22+(Interface!$D$17-Interface!$D$22)*Berechnung!BU26)*'Verwaltung (ausblenden)'!$C$17","v":{"v":33.02805004031893,"d":"33.0"}},{"$f":"(Interface!$D$22+(Interface!$D$17-Interface!$D$22)*Berechnung!BV26)*'Verwaltung (ausblenden)'!$C$17","v":{"v":33.14753820407493,"d":"33.1"}},{"$f":"(Interface!$D$22+(Interface!$D$17-Interface!$D$22)*Berechnung!BW26)*'Verwaltung (ausblenden)'!$C$17","v":{"v":33.265509146779834,"d":"33.3"}},{"$f":"(Interface!$D$22+(Interface!$D$17-Interface!$D$22)*Berechnung!BX26)*'Verwaltung (ausblenden)'!$C$17","v":{"v":33.38198213360306,"d":"33.4"}},{"$f":"(Interface!$D$22+(Interface!$D$17-Interface!$D$22)*Berechnung!BY26)*'Verwaltung (ausblenden)'!$C$17","v":{"v":33.49697618509131,"d":"33.5"}},{"$f":"(Interface!$D$22+(Interface!$D$17-Interface!$D$22)*Berechnung!BZ26)*'Verwaltung (ausblenden)'!$C$17","v":{"v":33.61051008027467,"d":"33.6"}},{"$f":"(Interface!$D$22+(Interface!$D$17-Interface!$D$22)*Berechnung!CA26)*'Verwaltung (ausblenden)'!$C$17","v":{"v":33.722602359733344,"d":"33.7"}},{"$f":"(Interface!$D$22+(Interface!$D$17-Interface!$D$22)*Berechnung!CB26)*'Verwaltung (ausblenden)'!$C$17","v":{"v":33.833271328625415,"d":"33.8"}},{"$f":"(Interface!$D$22+(Interface!$D$17-Interface!$D$22)*Berechnung!CC26)*'Verwaltung (ausblenden)'!$C$17","v":{"v":33.9425350596761,"d":"33.9"}},{"$f":"(Interface!$D$22+(Interface!$D$17-Interface!$D$22)*Berechnung!CD26)*'Verwaltung (ausblenden)'!$C$17","v":{"v":34.05041139612922,"d":"34.1"}},{"$f":"(Interface!$D$22+(Interface!$D$17-Interface!$D$22)*Berechnung!CE26)*'Verwaltung (ausblenden)'!$C$17","v":{"v":34.15691795466094,"d":"34.2"}},{"$f":"(Interface!$D$22+(Interface!$D$17-Interface!$D$22)*Berechnung!CF26)*'Verwaltung (ausblenden)'!$C$17","v":{"v":34.26207212825675,"d":"34.3"}},{"$f":"(Interface!$D$22+(Interface!$D$17-Interface!$D$22)*Berechnung!CG26)*'Verwaltung (ausblenden)'!$C$17","v":{"v":34.365891089051765,"d":"34.4"}},{"$f":"(Interface!$D$22+(Interface!$D$17-Interface!$D$22)*Berechnung!CH26)*'Verwaltung (ausblenden)'!$C$17","v":{"v":34.468391791135055,"d":"34.5"}},{"$f":"(Interface!$D$22+(Interface!$D$17-Interface!$D$22)*Berechnung!CI26)*'Verwaltung (ausblenden)'!$C$17","v":{"v":34.56959097331827,"d":"34.6"}},{"$f":"(Interface!$D$22+(Interface!$D$17-Interface!$D$22)*Berechnung!CJ26)*'Verwaltung (ausblenden)'!$C$17","v":{"v":34.66950516186919,"d":"34.7"}},{"$f":"(Interface!$D$22+(Interface!$D$17-Interface!$D$22)*Berechnung!CK26)*'Verwaltung (ausblenden)'!$C$17","v":{"v":34.76815067321053,"d":"34.8"}},{"$f":"(Interface!$D$22+(Interface!$D$17-Interface!$D$22)*Berechnung!CL26)*'Verwaltung (ausblenden)'!$C$17","v":{"v":34.865543616584475,"d":"34.9"}},{"$f":"(Interface!$D$22+(Interface!$D$17-Interface!$D$22)*Berechnung!CM26)*'Verwaltung (ausblenden)'!$C$17","v":{"v":34.96169989668343,"d":"35.0"}},{"$f":"(Interface!$D$22+(Interface!$D$17-Interface!$D$22)*Berechnung!CN26)*'Verwaltung (ausblenden)'!$C$17","v":{"v":35.05663521624726,"d":"35.1"}},{"$f":"(Interface!$D$22+(Interface!$D$17-Interface!$D$22)*Berechnung!CO26)*'Verwaltung (ausblenden)'!$C$17","v":{"v":35.15036507862766,"d":"35.2"}},{"$f":"(Interface!$D$22+(Interface!$D$17-Interface!$D$22)*Berechnung!CP26)*'Verwaltung (ausblenden)'!$C$17","v":{"v":35.24290479031992,"d":"35.2"}},{"$f":"(Interface!$D$22+(Interface!$D$17-Interface!$D$22)*Berechnung!CQ26)*'Verwaltung (ausblenden)'!$C$17","v":{"v":35.33426946346252,"d":"35.3"}},{"$f":"(Interface!$D$22+(Interface!$D$17-Interface!$D$22)*Berechnung!CR26)*'Verwaltung (ausblenden)'!$C$17","v":{"v":35.424474018305034,"d":"35.4"}},{"$f":"(Interface!$D$22+(Interface!$D$17-Interface!$D$22)*Berechnung!CS26)*'Verwaltung (ausblenden)'!$C$17","v":{"v":35.51353318564464,"d":"35.5"}},{"$f":"(Interface!$D$22+(Interface!$D$17-Interface!$D$22)*Berechnung!CT26)*'Verwaltung (ausblenden)'!$C$17","v":{"v":35.60146150923176,"d":"35.6"}},{"$f":"(Interface!$D$22+(Interface!$D$17-Interface!$D$22)*Berechnung!CU26)*'Verwaltung (ausblenden)'!$C$17","v":{"v":35.68827334814508,"d":"35.7"}},{"$f":"(Interface!$D$22+(Interface!$D$17-Interface!$D$22)*Berechnung!CV26)*'Verwaltung (ausblenden)'!$C$17","v":{"v":35.7739828791365,"d":"35.8"}},{"$f":"(Interface!$D$22+(Interface!$D$17-Interface!$D$22)*Berechnung!CW26)*'Verwaltung (ausblenden)'!$C$17","v":{"v":35.85860409894619,"d":"35.9"}},{"$f":"(Interface!$D$22+(Interface!$D$17-Interface!$D$22)*Berechnung!CX26)*'Verwaltung (ausblenden)'!$C$17","v":{"v":35.94215082658839,"d":"35.9"}},{"$f":"(Interface!$D$22+(Interface!$D$17-Interface!$D$22)*Berechnung!CY26)*'Verwaltung (ausblenden)'!$C$17","v":{"v":36.02463670560806,"d":"36.0"}},{"$f":"(Interface!$D$22+(Interface!$D$17-Interface!$D$22)*Berechnung!CZ26)*'Verwaltung (ausblenden)'!$C$17","v":{"v":36.10607520630899,"d":"36.1"}},{"$f":"(Interface!$D$22+(Interface!$D$17-Interface!$D$22)*Berechnung!DA26)*'Verwaltung (ausblenden)'!$C$17","v":{"v":36.18647962795346,"d":"36.2"}}]
[]
[]
[null,"Ergebnisse für Ausgabe"]
[]
[null,"Austrittstemperatur warm in °C","ϑ1,aus","[°C]",{"$f":"MIN(E28:DA28)","v":{"v":52.903833102805905,"d":"52.9"}}]
[null,"Austrittstemperatur kalt in °C","ϑ2,aus","[°C]",{"$f":"MAX(E29:DA29)","v":{"v":36.18647962795346,"d":"36.2"}}]
[]
[null,"Übertragene Wärmeleistung",null,"[W]",{"$f":"ABS((E28-Berechnung!E34)*Berechnung!E11)","v":{"v":13548.083448597048,"d":"13548.1"}}]
[{"$nulls":3},"[kW]",{"$f":"E37/1000","v":{"v":13.548083448597048,"d":"13.5"}}]
[{"$nulls":3},"[MW]",{"$f":"E37/1000000","v":{"v":0.013548083448597047,"d":"0.0"}}]
[]
[]
[null,"Zusätzliche Berechnungen"]
[]
[null,"Temperaturdifferenz bei x=0%","ΔT(x=0%)","[K]",{"$f":"IF('Verwaltung (ausblenden)'!$D$10=TRUE,Interface!D17-Interface!D22,IF('Verwaltung (ausblenden)'!$D$11=TRUE,Interface!D17-Interface!J8,0))","v":{"v":60,"d":"60.0"}}]
[null,"Temperaturdifferenz bei x=100%","ΔT(x=100%)","[K]",{"$f":"IF('Verwaltung (ausblenden)'!$D$10=TRUE,Interface!J7-Interface!J8,IF('Verwaltung (ausblenden)'!$D$11=TRUE,ABS(Interface!J7-Interface!D22),0))","v":{"v":16.717353474852445,"d":"16.7"}}]
[]
[null,"Mittlere logarithmische Temperaturdifferenz","ΔTm","[K]",{"$f":"IF(E44-E45=0,(E44+E45)/2,(E44-E45)/LN(E44/E45))","v":{"v":33.870208621492615,"d":"33.9"}}]
[]
[null,"Wärmeübertrager-Wirkungsgrad warmes Fluid","ε1","[-]",{"$f":"IF('Verwaltung (ausblenden)'!$D$10=TRUE,(1-EXP(-$E$14*(1+$E$17)))/(1+$E$17),IF('Verwaltung (ausblenden)'!$D$11=TRUE,(1-EXP(-$E$14*(1-$E$17)))/(1-$E$17*EXP(-$E$14*(1-$E$17))),0))","v":{"v":0.4516027816199015,"d":"0.5"}}]
[null,"Wärmeübertrager-Wirkungsgrad kaltes Fluid","ε2","[-]",{"$f":"IF('Verwaltung (ausblenden)'!$D$10=TRUE,(1-EXP(-$E$15*(1+$E$18)))/(1+$E$18),IF('Verwaltung (ausblenden)'!$D$11=TRUE,(1-EXP(-$E$15*(1-$E$18)))/(1-$E$18*EXP(-$E$15*(1-$E$18))),0))","v":{"v":0.26977466046589105,"d":"0.3"}}]

{"sheet":"Verwaltung (ausblenden)","index":4,"n_rows":21,"n_cols":5,"rows_kept":21,"hidden":true,"merged":[[16,1,17,1],[16,4,17,4]]}
[]
[null,"HExTemp light"]
[]
[null,"Verwaltung"]
[]
[null,"Drop-Down-Menü"]
[]
[null,"Auswertung und Beschriftung im Eingabebereich"]
[]
[null,"Auswahl Gleichstromwärmeübertrager","Gleichstrom",{"$f":"IF('Verwaltung (ausblenden)'!D12=2,FALSE,TRUE)","v":true},"entspricht im Drop-Down-Menü der Auswahl 1"]
[null,"Auswahl Gegenstromwärmeübertrager","Gegenstrom",{"$f":"IF('Verwaltung (ausblenden)'!D12=1,FALSE,TRUE)","v":false},"entspricht im Drop-Down-Menü der Auswahl 2"]
[null,"Nummer des ausgewählten Strömungsverlaufes",null,1,"Aktuelle Auswahl"]
[]
[]
[null,"Fehlermanagement"]
[]
[null,"Bedingung zur \"Ausblendung\" der Daten im Plot bei Eingabefehlern",{"$f":"PRODUCT('Verwaltung (ausblenden)'!D21:D22)","v":1},null,"0: Eingabefehler \n1: kein Eingabefehler"]
[]
[]
[null,"Fehlermeldungen","Nr.","Trigger","Meldung"]
[null,null,1,{"$f":"IF(Interface!D17<=Interface!D22,0,1)","v":1},"Bitte wählen Sie Eingangstemperatur 1 größer als Eingangstemperatur 2!"]

{"sheet":"Impressum","index":5,"n_rows":44,"n_cols":2,"rows_kept":44}
[]
[null,"Impressum"]
[]
[null,"HExTemp light Version 2.0.1 - 08.08.2017"]
[]
[null,"Lizenzbedingungen"]
[]
[null,"Diese Lizenzbedingungen bilden zwischen dem Anwender (entweder als natürliche oder juristische Person) und der Wenger Engineering GmbH einen rechtsgültigen Vertrag auf das vorliegende Softwareprodukt. Durch den Download und die Benutzung des Programmes erklären Sie Ihr Einverständnis mit diesen Lizenzbedingungen:"]
[]
[null,"1. Die kostenfreie oder kostenpflichtige Verbreitung der Software ist nicht gestattet. Jede Zuwiderhandlung wird juristisch verfolgt."]
[]
[null,"2. Das Entfernen oder Bearbeiten des Logos in den Darstellungen ist nicht gestattet."]
[]
[null,"3. Die Wenger Engineering GmbH übernimmt keine Verantwortung für Änderungen und Eingaben durch den Anwender. Der Anwender ist dafür verantwortlich, physikalisch sinnvolle Eingaben zu tätigen und die Berechnungsergebnisse auf ihre Plausibilität hin zu prüfen."]
[]
[null,"4. Es werden Ihnen durch diesen Vertrag keine Rechte in Verbindung mit Marken der Wenger Engineering GmbH gewährt."]
[]
[null,"5. Es gelten die Allgemeinen Geschäftsbedingungen der Wenger Engineering GmbH."]
[]
[null,"Urheberrecht"]
[]
[null,"Die Wenger Engineering GmbH hat und behält das Eigentum sowie alle Rechte (insb. die geistigen Eigentumsrechte) an der Software (einschließlich, aber nicht beschränkt auf Bilder, Berechnungsgleichungen, Texte und \"Applets\", die in dem Programm enthalten sind), den Begleitmaterialien und jeder Kopie der Software."]
[]
[null,"Systemanforderungen"]
[]
[null,"Dieses Programm wurde für Windows 7 64 bit mit Excel 2013 entwickelt und optimiert. Die Wenger Engineering GmbH garantiert keine Funktionalität in anderen Betriebssystemen und MS Excel-Versionen."]
[]
[null,"Keine Gewährleistung"]
[]
[null,"FÜR DIESE SOFTWARE IST DIE GEWÄHRLEISTUNG AUSGESCHLOSSEN. DIE BENUTZUNG ERFOLGT AUF EIGENE GEFAHR. FÜR VERLUSTE, FEHLERHAFTE DATEN, JEDWEDEN ENTGANGENEN GEWINN AUS DER NUTZUNG ODER DER UNKORREKTEN NUTZUNG DIESER SOFTWARE HAFTET DIE WENGER ENGINEERING GMBH NICHT."]
[]
[null,"Fehler"]
[]
[null,"Wir haben diese Software mit größtmöglicher Sorgfalt erstellt. Dennoch können Fehler nicht ausgeschlossen werden. Sollten Sie Fehler finden, bitten wir Sie höflich um Rückmeldung."]
[]
[null,"Kontakt"]
[]
[null,"Wenger Engineering GmbH"]
[null,"Einsteinstraße 55"]
[null,"D-89077 Ulm"]
[null,"Tel. +49 731 / 159 37 -500"]
[]
[null,"mail@wenger-engineering.de"]
[null,"www.wenger-engineering.de"]